BEGIN:VCALENDAR
VERSION:2.0
PRODID:-//Living Snoqualmie - ECPv6.15.20//NONSGML v1.0//EN
CALSCALE:GREGORIAN
METHOD:PUBLISH
X-ORIGINAL-URL:https://livingsnoqualmie.com
X-WR-CALDESC:Events for Living Snoqualmie
REFRESH-INTERVAL;VALUE=DURATION:PT1H
X-Robots-Tag:noindex
X-PUBLISHED-TTL:PT1H
BEGIN:VTIMEZONE
TZID:America/Los_Angeles
BEGIN:DAYLIGHT
TZOFFSETFROM:-0800
TZOFFSETTO:-0700
TZNAME:PDT
DTSTART:20240310T100000
END:DAYLIGHT
BEGIN:STANDARD
TZOFFSETFROM:-0700
TZOFFSETTO:-0800
TZNAME:PST
DTSTART:20241103T090000
END:STANDARD
BEGIN:DAYLIGHT
TZOFFSETFROM:-0800
TZOFFSETTO:-0700
TZNAME:PDT
DTSTART:20250309T100000
END:DAYLIGHT
BEGIN:STANDARD
TZOFFSETFROM:-0700
TZOFFSETTO:-0800
TZNAME:PST
DTSTART:20251102T090000
END:STANDARD
BEGIN:DAYLIGHT
TZOFFSETFROM:-0800
TZOFFSETTO:-0700
TZNAME:PDT
DTSTART:20260308T100000
END:DAYLIGHT
BEGIN:STANDARD
TZOFFSETFROM:-0700
TZOFFSETTO:-0800
TZNAME:PST
DTSTART:20261101T090000
END:STANDARD
END:VTIMEZONE
BEGIN:VEVENT
DTSTART;TZID=America/Los_Angeles:20250214T193000
DTEND;TZID=America/Los_Angeles:20250214T213000
DTSTAMP:20260423T063255
CREATED:20250208T202305Z
LAST-MODIFIED:20250208T202305Z
UID:59243-1739561400-1739568600@livingsnoqualmie.com
SUMMARY:Snoqualmie Valley Queer Open Mic Night: Featuring Elizabeth Hill at The Black Dog
DESCRIPTION:Snoqualmie Valley Queer Open Mic Night:\nFeaturing Elizabeth Hill\n Doors open & performer sign-up: 6:30 PM\n Show starts: 7:30 PM\n By donation\nCelebrate queer love and joy this Valentine’s Day with us at The Black Dog!\nJoin us for an evening of creativity and community as we showcase LGBTQIA+ artists of the Snoqualmie Valley \nMusicians\, poets\, comedians\, drag performers\, dancers\, and visual artists – all are welcome to showcase their art on stage in an uplifting and supportive environment.\n Projection screen available for photography\, digital art\, and more.\nEach performer gets 10-15 minutes of stage time\, depending on attendance.\nExplore and enjoy our delicious vegan and vegetarian menu! \n\nElizabeth Hill (she/her) is a musician and visual artist who lives in the Snoqualmie Valley. She primarily plays clawhammer style on an open back banjo although she also incorporates other styles of banjo playing. Elizabeth grew up in Appalachia and loves the sound and feeling of the mountain music which she carries forward by playing traditional songs\, new grass\, and her own originals.\nShe often performs with other musicians in an intergenerational group called Elizabeth Hill & the Valley Folk. The band was lucky enough to perform at the Northwest Folklife Festival in 2024. They have also played at the BrodieNation Music Festival in Carnation\, The Carnation Block Party\, Redmond Pride\, Woodinville Pride\, Carnation Pride\, March of the Vegetables in Duvall\, The Grange in Duvall\, The Centro Cultural Mexicano in Redmond\, Duvall Days\, Remlinger Brewery in Carnation\, Mineral Lake Lions Den Campground\, Sandblast Festival of the Arts in Duvall\, Valley House Brewing Co. in Duvall\, and other venues and events in Western Washington.\nThe band blends traditional mountain music with other musical styles. Picking old-time sounds spiced with experimentation and improvisation. Elizabeth Hill & the Valley Folk play traditional\, new grass\, and their own original music delivering their own brand of Americana.
URL:https://livingsnoqualmie.com/event/snoqualmie-valley-queer-open-mic-night-featuring-elizabeth-hill-at-the-black-dog/
LOCATION:Black Dog Arts Cafe\, 8062 Railroad Ave SE\, Snoqualmie\, WA\, 98045\, United States
ORGANIZER;CN="Black Dog Arts Cafe":MAILTO:blackdogsnoqualmie@gmail.com
END:VEVENT
END:VCALENDAR