BEGIN:VCALENDAR
VERSION:2.0
PRODID:-//Living Snoqualmie - ECPv6.15.20//NONSGML v1.0//EN
CALSCALE:GREGORIAN
METHOD:PUBLISH
X-WR-CALNAME:Living Snoqualmie
X-ORIGINAL-URL:https://livingsnoqualmie.com
X-WR-CALDESC:Events for Living Snoqualmie
REFRESH-INTERVAL;VALUE=DURATION:PT1H
X-Robots-Tag:noindex
X-PUBLISHED-TTL:PT1H
BEGIN:VTIMEZONE
TZID:America/Los_Angeles
BEGIN:DAYLIGHT
TZOFFSETFROM:-0800
TZOFFSETTO:-0700
TZNAME:PDT
DTSTART:20240310T100000
END:DAYLIGHT
BEGIN:STANDARD
TZOFFSETFROM:-0700
TZOFFSETTO:-0800
TZNAME:PST
DTSTART:20241103T090000
END:STANDARD
BEGIN:DAYLIGHT
TZOFFSETFROM:-0800
TZOFFSETTO:-0700
TZNAME:PDT
DTSTART:20250309T100000
END:DAYLIGHT
BEGIN:STANDARD
TZOFFSETFROM:-0700
TZOFFSETTO:-0800
TZNAME:PST
DTSTART:20251102T090000
END:STANDARD
BEGIN:DAYLIGHT
TZOFFSETFROM:-0800
TZOFFSETTO:-0700
TZNAME:PDT
DTSTART:20260308T100000
END:DAYLIGHT
BEGIN:STANDARD
TZOFFSETFROM:-0700
TZOFFSETTO:-0800
TZNAME:PST
DTSTART:20261101T090000
END:STANDARD
END:VTIMEZONE
BEGIN:VEVENT
DTSTART;TZID=America/Los_Angeles:20250202T130000
DTEND;TZID=America/Los_Angeles:20250202T150000
DTSTAMP:20260423T082431
CREATED:20250130T172305Z
LAST-MODIFIED:20250130T172305Z
UID:59095-1738501200-1738508400@livingsnoqualmie.com
SUMMARY:SnoValley Pride's Short Film Fest
DESCRIPTION:Get ready for an unforgettable afternoon at ‘Flicker’\, Snovalley Pride’s Queer Short Film Fest! Be entertained with a dazzling lineup of short films that celebrate LGBTQ+ creativity\, storytelling\, and representation.\n\nThis year’s special features include the chillingly fun ‘The Haunted Baby Carriage from Hell’ and the heartwarming ‘Cowboy Boots’. Don’t miss the chance to meet the talent behind ‘Cowboy Boots’ as director Eric Delehoy and lead actor Michael Ridley will join us for a Q&A session to share insights and stories from their filming process.\n\nTickets are just $10\, with all proceeds directly supporting Snovalley Pride’s mission to build safe and inclusive spaces in our community.\nJoin us for an afternoon of captivating cinema\, connection\, and celebration of queer voices. See you at Flicker.
URL:https://livingsnoqualmie.com/event/snovalley-prides-short-film-fest/
LOCATION:Miller’s Carnation\, 4597 Tolt Ave\, Carnation\, WA\, 98104\, United States
END:VEVENT
END:VCALENDAR