BEGIN:VCALENDAR
VERSION:2.0
PRODID:-//Living Snoqualmie - ECPv6.15.20//NONSGML v1.0//EN
CALSCALE:GREGORIAN
METHOD:PUBLISH
X-WR-CALNAME:Living Snoqualmie
X-ORIGINAL-URL:https://livingsnoqualmie.com
X-WR-CALDESC:Events for Living Snoqualmie
REFRESH-INTERVAL;VALUE=DURATION:PT1H
X-Robots-Tag:noindex
X-PUBLISHED-TTL:PT1H
BEGIN:VTIMEZONE
TZID:America/Los_Angeles
BEGIN:DAYLIGHT
TZOFFSETFROM:-0800
TZOFFSETTO:-0700
TZNAME:PDT
DTSTART:20240310T100000
END:DAYLIGHT
BEGIN:STANDARD
TZOFFSETFROM:-0700
TZOFFSETTO:-0800
TZNAME:PST
DTSTART:20241103T090000
END:STANDARD
BEGIN:DAYLIGHT
TZOFFSETFROM:-0800
TZOFFSETTO:-0700
TZNAME:PDT
DTSTART:20250309T100000
END:DAYLIGHT
BEGIN:STANDARD
TZOFFSETFROM:-0700
TZOFFSETTO:-0800
TZNAME:PST
DTSTART:20251102T090000
END:STANDARD
BEGIN:DAYLIGHT
TZOFFSETFROM:-0800
TZOFFSETTO:-0700
TZNAME:PDT
DTSTART:20260308T100000
END:DAYLIGHT
BEGIN:STANDARD
TZOFFSETFROM:-0700
TZOFFSETTO:-0800
TZNAME:PST
DTSTART:20261101T090000
END:STANDARD
END:VTIMEZONE
BEGIN:VEVENT
DTSTART;TZID=America/Los_Angeles:20250118T180000
DTEND;TZID=America/Los_Angeles:20250118T210000
DTSTAMP:20260423T082447
CREATED:20250112T174652Z
LAST-MODIFIED:20250112T174652Z
UID:58886-1737223200-1737234000@livingsnoqualmie.com
SUMMARY:Mount Si Physical Therapy and Wellness Collective-Art Hop
DESCRIPTION:Event: Art Hop\nWhen: This Saturday\, January 18th\, 6-9 PM\nWhere: 201 W North Bend Way\, North Bend\nFeaturing: A live performance by Tinkham Road and local artists showcasing their work.\n\nWith artwork from incredible local artists\, this event invites you to connect\, explore\, and soak in a vibrant atmosphere of creativity and community.\nEnjoy the sounds of Tinkham Road as they provide live music throughout the evening\, setting the perfect tone for exploring the art on display!
URL:https://livingsnoqualmie.com/event/mount-si-physical-therapy-and-wellness-collective-art-hop/
LOCATION:Mt Si PT ad Wellness Collective\, 201 W North Bend Way\, North Bend\, WA\, 98045\, United States
END:VEVENT
END:VCALENDAR