BEGIN:VCALENDAR
VERSION:2.0
PRODID:-//Living Snoqualmie - ECPv6.15.20//NONSGML v1.0//EN
CALSCALE:GREGORIAN
METHOD:PUBLISH
X-ORIGINAL-URL:https://livingsnoqualmie.com
X-WR-CALDESC:Events for Living Snoqualmie
REFRESH-INTERVAL;VALUE=DURATION:PT1H
X-Robots-Tag:noindex
X-PUBLISHED-TTL:PT1H
BEGIN:VTIMEZONE
TZID:America/Los_Angeles
BEGIN:DAYLIGHT
TZOFFSETFROM:-0800
TZOFFSETTO:-0700
TZNAME:PDT
DTSTART:20230312T100000
END:DAYLIGHT
BEGIN:STANDARD
TZOFFSETFROM:-0700
TZOFFSETTO:-0800
TZNAME:PST
DTSTART:20231105T090000
END:STANDARD
BEGIN:DAYLIGHT
TZOFFSETFROM:-0800
TZOFFSETTO:-0700
TZNAME:PDT
DTSTART:20240310T100000
END:DAYLIGHT
BEGIN:STANDARD
TZOFFSETFROM:-0700
TZOFFSETTO:-0800
TZNAME:PST
DTSTART:20241103T090000
END:STANDARD
BEGIN:DAYLIGHT
TZOFFSETFROM:-0800
TZOFFSETTO:-0700
TZNAME:PDT
DTSTART:20250309T100000
END:DAYLIGHT
BEGIN:STANDARD
TZOFFSETFROM:-0700
TZOFFSETTO:-0800
TZNAME:PST
DTSTART:20251102T090000
END:STANDARD
END:VTIMEZONE
BEGIN:VEVENT
DTSTART;TZID=America/Los_Angeles:20241218T090000
DTEND;TZID=America/Los_Angeles:20241218T150000
DTSTAMP:20260423T101503
CREATED:20241113T201528Z
LAST-MODIFIED:20241113T201628Z
UID:57743-1734512400-1734534000@livingsnoqualmie.com
SUMMARY:CarePoint Snoqualmie Valley Free Health Care Blood Drive
DESCRIPTION:DONATE BLOOD. DONATE LOCAL \nIT TAKES LESS THAN AN HOUR. \nCarePoint Clinic Fall City \nSVA Church Gym | 36017 SE Fish Hatchery Rd\, Fall City \nWednesday\, December 18th \n9:00 am to 3:00 pm \nAppointments are required for the best possible donation experience. Same-day appointments are available at most locations. Photo ID required. \nFor safety reasons\, we kindly request that no visitors under 16 visit our donation sites. \nEat a hearty meal and drink plenty of fluids before donation. \nLink for registration   \nLocal Donors. Local Patients. \nMake an appointment today. \n800-398-7888 | bloodworksnw.org/giveblood \n@bloodworksnw (Instagram\, Facebook\, LinkedIn\, YouTube)
URL:https://livingsnoqualmie.com/event/carepoint-snoqualmie-valley-free-health-care-blood-drive/
LOCATION:Care Point Clinic\, 36017 SE Fish Hatchery Road\, Fall City\, WA\, 98024\, United States
END:VEVENT
END:VCALENDAR