BEGIN:VCALENDAR
VERSION:2.0
PRODID:-//Living Snoqualmie - ECPv6.15.20//NONSGML v1.0//EN
CALSCALE:GREGORIAN
METHOD:PUBLISH
X-WR-CALNAME:Living Snoqualmie
X-ORIGINAL-URL:https://livingsnoqualmie.com
X-WR-CALDESC:Events for Living Snoqualmie
REFRESH-INTERVAL;VALUE=DURATION:PT1H
X-Robots-Tag:noindex
X-PUBLISHED-TTL:PT1H
BEGIN:VTIMEZONE
TZID:America/Los_Angeles
BEGIN:DAYLIGHT
TZOFFSETFROM:-0800
TZOFFSETTO:-0700
TZNAME:PDT
DTSTART:20230312T100000
END:DAYLIGHT
BEGIN:STANDARD
TZOFFSETFROM:-0700
TZOFFSETTO:-0800
TZNAME:PST
DTSTART:20231105T090000
END:STANDARD
BEGIN:DAYLIGHT
TZOFFSETFROM:-0800
TZOFFSETTO:-0700
TZNAME:PDT
DTSTART:20240310T100000
END:DAYLIGHT
BEGIN:STANDARD
TZOFFSETFROM:-0700
TZOFFSETTO:-0800
TZNAME:PST
DTSTART:20241103T090000
END:STANDARD
BEGIN:DAYLIGHT
TZOFFSETFROM:-0800
TZOFFSETTO:-0700
TZNAME:PDT
DTSTART:20250309T100000
END:DAYLIGHT
BEGIN:STANDARD
TZOFFSETFROM:-0700
TZOFFSETTO:-0800
TZNAME:PST
DTSTART:20251102T090000
END:STANDARD
END:VTIMEZONE
BEGIN:VEVENT
DTSTART;TZID=America/Los_Angeles:20241217T190000
DTEND;TZID=America/Los_Angeles:20241217T210000
DTSTAMP:20260423T101517
CREATED:20241115T214831Z
LAST-MODIFIED:20241115T214831Z
UID:57809-1734462000-1734469200@livingsnoqualmie.com
SUMMARY:Upper Snoqualmie Valley Elk Management Group-Tis the Season to Share
DESCRIPTION:December 17th\,  7 pm \nMeadowbrook Farm  \n1711 Boalch Ave NW\, North Bend\,  98045 \n‘Tis The Season To Share \nShare wildlife photos and stories (send your pictures to Harold Erland so he has time to make a PowerPoint. His email is hmerland@comcast.net). \nBring Snacks To Share\nWild game is encouraged\nNon-alcoholic drinks will be provided\nEveryone is welcome to attend our meetings\, so please bring your friends.
URL:https://livingsnoqualmie.com/event/upper-snoqualmie-valley-elk-management-group-tis-the-season-to-share/
LOCATION:Meadowbrook Farm\, 1711 Boalch Ave NW\, North Bend\, WA\, 98045\, United States
END:VEVENT
END:VCALENDAR