BEGIN:VCALENDAR
VERSION:2.0
PRODID:-//Living Snoqualmie - ECPv6.15.20//NONSGML v1.0//EN
CALSCALE:GREGORIAN
METHOD:PUBLISH
X-WR-CALNAME:Living Snoqualmie
X-ORIGINAL-URL:https://livingsnoqualmie.com
X-WR-CALDESC:Events for Living Snoqualmie
REFRESH-INTERVAL;VALUE=DURATION:PT1H
X-Robots-Tag:noindex
X-PUBLISHED-TTL:PT1H
BEGIN:VTIMEZONE
TZID:America/Los_Angeles
BEGIN:DAYLIGHT
TZOFFSETFROM:-0800
TZOFFSETTO:-0700
TZNAME:PDT
DTSTART:20230312T100000
END:DAYLIGHT
BEGIN:STANDARD
TZOFFSETFROM:-0700
TZOFFSETTO:-0800
TZNAME:PST
DTSTART:20231105T090000
END:STANDARD
BEGIN:DAYLIGHT
TZOFFSETFROM:-0800
TZOFFSETTO:-0700
TZNAME:PDT
DTSTART:20240310T100000
END:DAYLIGHT
BEGIN:STANDARD
TZOFFSETFROM:-0700
TZOFFSETTO:-0800
TZNAME:PST
DTSTART:20241103T090000
END:STANDARD
BEGIN:DAYLIGHT
TZOFFSETFROM:-0800
TZOFFSETTO:-0700
TZNAME:PDT
DTSTART:20250309T100000
END:DAYLIGHT
BEGIN:STANDARD
TZOFFSETFROM:-0700
TZOFFSETTO:-0800
TZNAME:PST
DTSTART:20251102T090000
END:STANDARD
END:VTIMEZONE
BEGIN:VEVENT
DTSTART;TZID=America/Los_Angeles:20241207T143000
DTEND;TZID=America/Los_Angeles:20241207T180000
DTSTAMP:20260423T101513
CREATED:20241204T163112Z
LAST-MODIFIED:20241204T163112Z
UID:58259-1733581800-1733594400@livingsnoqualmie.com
SUMMARY:Mail Your Letter to Santa Claus! Christmas in Carnation
DESCRIPTION:Mail Your Letter to Santa Claus! \nBring the magic of the North Pole straight to your mailbox! \nSanta’s Mailbox will be available for letter submissions during the Carnation Chamber of Commerce Christmas in Carnation event on December 7\, 2024\, from 2:30 PM – 6:00 PM. \nThere will be a letter-writing station available through Santa Photos. The mailbox will be outside City Hall all season long! \nBe sure to put your return address on your letter so Santa can send his reply!
URL:https://livingsnoqualmie.com/event/mail-your-letter-to-santa-claus-christmas-in-carnation/
LOCATION:Carnation City Hall\, 4621 Tolt Avenue\, Carnation\, WA\, 98014\, United States
END:VEVENT
BEGIN:VEVENT
DTSTART;TZID=America/Los_Angeles:20241207T150000
DTEND;TZID=America/Los_Angeles:20241207T190000
DTSTAMP:20260423T101513
CREATED:20241126T201454Z
LAST-MODIFIED:20241126T201454Z
UID:58075-1733583600-1733598000@livingsnoqualmie.com
SUMMARY:Fire Department Food Drive Saturday\, December 7\, 2024
DESCRIPTION:Fire Department Food Drive Saturday\, December 7\, 2024 \nDrop-Off Donations Downtown \nNon-perishable foods suggested: Individual breakfast cereals\, instant oatmeal\, mac and cheese\, ramen\, and other easy -to-eat lunch foods\, fruit snacks\, applesauce cups\, granola bars\, cheese/peanut butter crackers\, jerky and trail mix. \nDonations Support Feeding Kiddos Backpack Program \n7971 Railroad Ave SE\nSnoqualmie\, WA 98065
URL:https://livingsnoqualmie.com/event/fire-department-food-drive-saturday-december-7-2024/
LOCATION:Downtown Snoqualmie
END:VEVENT
END:VCALENDAR