BEGIN:VCALENDAR
VERSION:2.0
PRODID:-//Living Snoqualmie - ECPv6.15.20//NONSGML v1.0//EN
CALSCALE:GREGORIAN
METHOD:PUBLISH
X-WR-CALNAME:Living Snoqualmie
X-ORIGINAL-URL:https://livingsnoqualmie.com
X-WR-CALDESC:Events for Living Snoqualmie
REFRESH-INTERVAL;VALUE=DURATION:PT1H
X-Robots-Tag:noindex
X-PUBLISHED-TTL:PT1H
BEGIN:VTIMEZONE
TZID:America/Los_Angeles
BEGIN:DAYLIGHT
TZOFFSETFROM:-0800
TZOFFSETTO:-0700
TZNAME:PDT
DTSTART:20230312T100000
END:DAYLIGHT
BEGIN:STANDARD
TZOFFSETFROM:-0700
TZOFFSETTO:-0800
TZNAME:PST
DTSTART:20231105T090000
END:STANDARD
BEGIN:DAYLIGHT
TZOFFSETFROM:-0800
TZOFFSETTO:-0700
TZNAME:PDT
DTSTART:20240310T100000
END:DAYLIGHT
BEGIN:STANDARD
TZOFFSETFROM:-0700
TZOFFSETTO:-0800
TZNAME:PST
DTSTART:20241103T090000
END:STANDARD
BEGIN:DAYLIGHT
TZOFFSETFROM:-0800
TZOFFSETTO:-0700
TZNAME:PDT
DTSTART:20250309T100000
END:DAYLIGHT
BEGIN:STANDARD
TZOFFSETFROM:-0700
TZOFFSETTO:-0800
TZNAME:PST
DTSTART:20251102T090000
END:STANDARD
END:VTIMEZONE
BEGIN:VEVENT
DTSTART;TZID=America/Los_Angeles:20241206T180000
DTEND;TZID=America/Los_Angeles:20241206T200000
DTSTAMP:20260423T101515
CREATED:20241126T163250Z
LAST-MODIFIED:20250419T193847Z
UID:58070-1733508000-1733515200@livingsnoqualmie.com
SUMMARY:‘You Are Here: Snoqualmonix’: Scott Rinckenberger Celebrates the Art of Backcountry Skiing
DESCRIPTION:‘You Are Here: Snoqualmonix’ – Dec 6th\nScott Rinckenberger Gallery\, North Bend\, WA \nThis fine art photography exhibit features a collection of pairings representing a deep love and appreciation for backcountry skiing\nand snowboarding in ‘Snoqualmonix.’ \nScott Rinckenberger\, acclaimed photographer and adventurer\, will unveil a new winter show at the gallery \nScott Rinckenberger Gallery\n106 W North Bend Way\nNorth Bend\, WA\nGallery Hours:\nThurs – Sat 12 – 6\nSun 12 – 5 \nOr by appointment:\ngallery@scottrinck.com \nTo see more\, visit:\nscottrinck.com/art
URL:https://livingsnoqualmie.com/event/you-are-here-snoqualmonix-scott-rinckenberger-celebrates-the-art-of-backcountry-skiing/
LOCATION:Scott Rickenberger Gallery\, 106 W North Bend Way\, North Bend\, 98045\, United States
ATTACH;FMTTYPE=image/jpeg:https://livingsnoqualmie.com/wp-content/uploads/2024/11/Main-Flyer-5x7-Square.jpeg
ORGANIZER;CN="Scott Rickenberger Gallery":MAILTO:scott@scottrinck.com
END:VEVENT
END:VCALENDAR