BEGIN:VCALENDAR
VERSION:2.0
PRODID:-//Living Snoqualmie - ECPv6.15.20//NONSGML v1.0//EN
CALSCALE:GREGORIAN
METHOD:PUBLISH
X-ORIGINAL-URL:https://livingsnoqualmie.com
X-WR-CALDESC:Events for Living Snoqualmie
REFRESH-INTERVAL;VALUE=DURATION:PT1H
X-Robots-Tag:noindex
X-PUBLISHED-TTL:PT1H
BEGIN:VTIMEZONE
TZID:America/Los_Angeles
BEGIN:DAYLIGHT
TZOFFSETFROM:-0800
TZOFFSETTO:-0700
TZNAME:PDT
DTSTART:20230312T100000
END:DAYLIGHT
BEGIN:STANDARD
TZOFFSETFROM:-0700
TZOFFSETTO:-0800
TZNAME:PST
DTSTART:20231105T090000
END:STANDARD
BEGIN:DAYLIGHT
TZOFFSETFROM:-0800
TZOFFSETTO:-0700
TZNAME:PDT
DTSTART:20240310T100000
END:DAYLIGHT
BEGIN:STANDARD
TZOFFSETFROM:-0700
TZOFFSETTO:-0800
TZNAME:PST
DTSTART:20241103T090000
END:STANDARD
BEGIN:DAYLIGHT
TZOFFSETFROM:-0800
TZOFFSETTO:-0700
TZNAME:PDT
DTSTART:20250309T100000
END:DAYLIGHT
BEGIN:STANDARD
TZOFFSETFROM:-0700
TZOFFSETTO:-0800
TZNAME:PST
DTSTART:20251102T090000
END:STANDARD
END:VTIMEZONE
BEGIN:VEVENT
DTSTART;TZID=America/Los_Angeles:20241203T180000
DTEND;TZID=America/Los_Angeles:20241203T200000
DTSTAMP:20260423T101502
CREATED:20241026T172117Z
LAST-MODIFIED:20241026T172117Z
UID:57424-1733248800-1733256000@livingsnoqualmie.com
SUMMARY:Snoqualmie Valley Women in Leadership-Annual Book Exchange
DESCRIPTION:Snoqualmie Valley Women in Leadership-Annual Book Exchange \nTuesday\, December 3\, 2024\n6:00 PM 8:00 PM \nIt’s back! The Annual SVWL Book Exchange. \nHow it works: \n\n\nThink about a book that has made an impact in your life as a leader and human. \n\n\nGet a copy of the book and wrap it up (Pre-loved books are welcome!) \n\n\nBring it to the book exchange. \n\n\nWe’ll exchange books white elephant style and you’ll walk away with a new read to inspire your journey! \nLocation: At a SVWL Community Member’s house; We’ll send you directions when you RSVP.
URL:https://livingsnoqualmie.com/event/snoqualmie-valley-women-in-leadership-annual-book-exchange/
LOCATION:WA
ORGANIZER;CN="Snoqualmie Valley Women Leaderhip":MAILTO:info@snovalleywomeninleadership.com
END:VEVENT
BEGIN:VEVENT
DTSTART;TZID=America/Los_Angeles:20241203T190000
DTEND;TZID=America/Los_Angeles:20241203T210000
DTSTAMP:20260423T101502
CREATED:20241128T163114Z
LAST-MODIFIED:20241128T163114Z
UID:58133-1733252400-1733259600@livingsnoqualmie.com
SUMMARY:North Bend City Council Meeting
DESCRIPTION:December 3\, 2024 City Council Meeting Packet Available\nThe community is invited to join City staff and elected officials for the December 3 City Council meeting and two public hearings at 7 p.m. \n12-03-24 Council Packet
URL:https://livingsnoqualmie.com/event/north-bend-city-council-meeting-5/
LOCATION:North Bend City Hall\, 920 SE Cedar Falls Way\, North Bend\, WA\, 98045\, United States
END:VEVENT
END:VCALENDAR