BEGIN:VCALENDAR
VERSION:2.0
PRODID:-//Living Snoqualmie - ECPv6.15.20//NONSGML v1.0//EN
CALSCALE:GREGORIAN
METHOD:PUBLISH
X-WR-CALNAME:Living Snoqualmie
X-ORIGINAL-URL:https://livingsnoqualmie.com
X-WR-CALDESC:Events for Living Snoqualmie
REFRESH-INTERVAL;VALUE=DURATION:PT1H
X-Robots-Tag:noindex
X-PUBLISHED-TTL:PT1H
BEGIN:VTIMEZONE
TZID:America/Los_Angeles
BEGIN:DAYLIGHT
TZOFFSETFROM:-0800
TZOFFSETTO:-0700
TZNAME:PDT
DTSTART:20230312T100000
END:DAYLIGHT
BEGIN:STANDARD
TZOFFSETFROM:-0700
TZOFFSETTO:-0800
TZNAME:PST
DTSTART:20231105T090000
END:STANDARD
BEGIN:DAYLIGHT
TZOFFSETFROM:-0800
TZOFFSETTO:-0700
TZNAME:PDT
DTSTART:20240310T100000
END:DAYLIGHT
BEGIN:STANDARD
TZOFFSETFROM:-0700
TZOFFSETTO:-0800
TZNAME:PST
DTSTART:20241103T090000
END:STANDARD
BEGIN:DAYLIGHT
TZOFFSETFROM:-0800
TZOFFSETTO:-0700
TZNAME:PDT
DTSTART:20250309T100000
END:DAYLIGHT
BEGIN:STANDARD
TZOFFSETFROM:-0700
TZOFFSETTO:-0800
TZNAME:PST
DTSTART:20251102T090000
END:STANDARD
END:VTIMEZONE
BEGIN:VEVENT
DTSTART;TZID=America/Los_Angeles:20240928T100000
DTEND;TZID=America/Los_Angeles:20240928T120000
DTSTAMP:20260423T160606
CREATED:20240917T164051Z
LAST-MODIFIED:20240917T164051Z
UID:56710-1727517600-1727524800@livingsnoqualmie.com
SUMMARY:City of Carnation-Be Dam Ready Evacuation Drill
DESCRIPTION:City of Carnation- Be Dam Ready Evacuation Drill \nJoin your neighbors and hike to the site \nSeptember 28\, 2024 | 10:00 am \nIN THE UNLIKELY EVENT OF A DAM FAILURE. \nCommunity members in Carnation would have to seek higher ground. \nOn 09/28/24\, the City of Carnation will be leading an evacuation drill with two separate starting points: \n\nThe intersection of NE 45th Street and Tolt Highlands Road\nThe West End of NE 50th Street\n\nWe recommend that participants choose the location closest to their homes. \nPlease arrive at 10:00 AM if you wish to hike with the group. \nQUESTIONS? CONTACT US: \n(425) 333-4192 \nclerk@carnationwa.gov
URL:https://livingsnoqualmie.com/event/city-of-carnation-be-dam-ready-evacuation-drill/
LOCATION:WA
END:VEVENT
END:VCALENDAR