BEGIN:VCALENDAR
VERSION:2.0
PRODID:-//Living Snoqualmie - ECPv6.15.20//NONSGML v1.0//EN
CALSCALE:GREGORIAN
METHOD:PUBLISH
X-ORIGINAL-URL:https://livingsnoqualmie.com
X-WR-CALDESC:Events for Living Snoqualmie
REFRESH-INTERVAL;VALUE=DURATION:PT1H
X-Robots-Tag:noindex
X-PUBLISHED-TTL:PT1H
BEGIN:VTIMEZONE
TZID:America/Los_Angeles
BEGIN:DAYLIGHT
TZOFFSETFROM:-0800
TZOFFSETTO:-0700
TZNAME:PDT
DTSTART:20230312T100000
END:DAYLIGHT
BEGIN:STANDARD
TZOFFSETFROM:-0700
TZOFFSETTO:-0800
TZNAME:PST
DTSTART:20231105T090000
END:STANDARD
BEGIN:DAYLIGHT
TZOFFSETFROM:-0800
TZOFFSETTO:-0700
TZNAME:PDT
DTSTART:20240310T100000
END:DAYLIGHT
BEGIN:STANDARD
TZOFFSETFROM:-0700
TZOFFSETTO:-0800
TZNAME:PST
DTSTART:20241103T090000
END:STANDARD
BEGIN:DAYLIGHT
TZOFFSETFROM:-0800
TZOFFSETTO:-0700
TZNAME:PDT
DTSTART:20250309T100000
END:DAYLIGHT
BEGIN:STANDARD
TZOFFSETFROM:-0700
TZOFFSETTO:-0800
TZNAME:PST
DTSTART:20251102T090000
END:STANDARD
END:VTIMEZONE
BEGIN:VEVENT
DTSTART;TZID=America/Los_Angeles:20240917T190000
DTEND;TZID=America/Los_Angeles:20240917T210000
DTSTAMP:20260423T160603
CREATED:20240827T204833Z
LAST-MODIFIED:20240827T204833Z
UID:56407-1726599600-1726606800@livingsnoqualmie.com
SUMMARY:Upper Snoqualmie Valley Elk Management Group- Wolf Report from State Expert
DESCRIPTION:Upper Snoqualmie Valley Elk Management Group- Wolf Report from State Expert\n\nTuesday\, September 17th at 7 pm\n\n\nMeadowbrook Interpretive Center\n1711 Boalch Ave NW\nNorth Bend WA 98045\n\n\nBen Maletzke\, Washington State’s leading WOLF EXPERT\, will give a presentation on his research and observations over the past year.
URL:https://livingsnoqualmie.com/event/upper-snoqualmie-valley-elk-management-group-wolf-report-from-state-expert/
LOCATION:Meadowbrook Interpretive Center\, 1711 Boalch Ave NW\, North Bend\, North Bend\, WA\, 98045\, United States
END:VEVENT
END:VCALENDAR