BEGIN:VCALENDAR
VERSION:2.0
PRODID:-//Living Snoqualmie - ECPv6.15.20//NONSGML v1.0//EN
CALSCALE:GREGORIAN
METHOD:PUBLISH
X-WR-CALNAME:Living Snoqualmie
X-ORIGINAL-URL:https://livingsnoqualmie.com
X-WR-CALDESC:Events for Living Snoqualmie
REFRESH-INTERVAL;VALUE=DURATION:PT1H
X-Robots-Tag:noindex
X-PUBLISHED-TTL:PT1H
BEGIN:VTIMEZONE
TZID:America/Los_Angeles
BEGIN:DAYLIGHT
TZOFFSETFROM:-0800
TZOFFSETTO:-0700
TZNAME:PDT
DTSTART:20230312T100000
END:DAYLIGHT
BEGIN:STANDARD
TZOFFSETFROM:-0700
TZOFFSETTO:-0800
TZNAME:PST
DTSTART:20231105T090000
END:STANDARD
BEGIN:DAYLIGHT
TZOFFSETFROM:-0800
TZOFFSETTO:-0700
TZNAME:PDT
DTSTART:20240310T100000
END:DAYLIGHT
BEGIN:STANDARD
TZOFFSETFROM:-0700
TZOFFSETTO:-0800
TZNAME:PST
DTSTART:20241103T090000
END:STANDARD
BEGIN:DAYLIGHT
TZOFFSETFROM:-0800
TZOFFSETTO:-0700
TZNAME:PDT
DTSTART:20250309T100000
END:DAYLIGHT
BEGIN:STANDARD
TZOFFSETFROM:-0700
TZOFFSETTO:-0800
TZNAME:PST
DTSTART:20251102T090000
END:STANDARD
END:VTIMEZONE
BEGIN:VEVENT
DTSTART;TZID=America/Los_Angeles:20240914T180000
DTEND;TZID=America/Los_Angeles:20240914T210000
DTSTAMP:20260423T160606
CREATED:20240826T200458Z
LAST-MODIFIED:20240826T200458Z
UID:56391-1726336800-1726347600@livingsnoqualmie.com
SUMMARY:Sip\, Suds\, & Si: Art Walk\, Tastings\, Music\, Shopping and Dining
DESCRIPTION:Sip\, Suds\, & Si: Art Walk\, Tastings\, Music\, Shopping and Dining \n𝗚𝗲𝘁 𝗿𝗲𝗮𝗱𝘆 𝗳𝗼𝗿 𝗮 𝗳𝗮𝗻𝘁𝗮𝘀𝘁𝗶𝗰 𝗲𝘃𝗲𝗻𝗶𝗻𝗴 𝗮𝘁 𝗦𝗶𝗽 𝗦𝘂𝗱𝘀 & 𝗦𝗶! Plan on enjoying an Art Walk & Live Music at this fantastically fun event in collaboration with North Bend Art & Industry!\n\n Join the North Bend Downtown Foundation on Saturday\, September 14th\, from 6-9 pm (check-in begins at 5 pm at the North Bend Train Depot)in Downtown North Bend for a delightful tasting experience and creative art walk. Indulge in a variety of wine\, beer\, and spirits while surrounded by our city’s charming atmosphere.\n\nYour Early Bird ticket includes 10 Tasting Tickets and a keepsake glass https://checkout.square.site/…/CXCFRCI7G7U7TUEVOQZKCLOE\n\nDon’t miss out – spread the word and invite your friends to this unforgettable event! Stay tuned for more exciting details. Cheers!
URL:https://livingsnoqualmie.com/event/sip-suds-si-art-walk-tastings-music-shopping-and-dining/
LOCATION:Downtown North Bend
ORGANIZER;CN="North Bend Downtown Foudation":MAILTO:info@northbenddowntown.org
END:VEVENT
END:VCALENDAR