BEGIN:VCALENDAR
VERSION:2.0
PRODID:-//Living Snoqualmie - ECPv6.15.20//NONSGML v1.0//EN
CALSCALE:GREGORIAN
METHOD:PUBLISH
X-ORIGINAL-URL:https://livingsnoqualmie.com
X-WR-CALDESC:Events for Living Snoqualmie
REFRESH-INTERVAL;VALUE=DURATION:PT1H
X-Robots-Tag:noindex
X-PUBLISHED-TTL:PT1H
BEGIN:VTIMEZONE
TZID:America/Los_Angeles
BEGIN:DAYLIGHT
TZOFFSETFROM:-0800
TZOFFSETTO:-0700
TZNAME:PDT
DTSTART:20230312T100000
END:DAYLIGHT
BEGIN:STANDARD
TZOFFSETFROM:-0700
TZOFFSETTO:-0800
TZNAME:PST
DTSTART:20231105T090000
END:STANDARD
BEGIN:DAYLIGHT
TZOFFSETFROM:-0800
TZOFFSETTO:-0700
TZNAME:PDT
DTSTART:20240310T100000
END:DAYLIGHT
BEGIN:STANDARD
TZOFFSETFROM:-0700
TZOFFSETTO:-0800
TZNAME:PST
DTSTART:20241103T090000
END:STANDARD
BEGIN:DAYLIGHT
TZOFFSETFROM:-0800
TZOFFSETTO:-0700
TZNAME:PDT
DTSTART:20250309T100000
END:DAYLIGHT
BEGIN:STANDARD
TZOFFSETFROM:-0700
TZOFFSETTO:-0800
TZNAME:PST
DTSTART:20251102T090000
END:STANDARD
END:VTIMEZONE
BEGIN:VEVENT
DTSTART;TZID=America/Los_Angeles:20240806T070000
DTEND;TZID=America/Los_Angeles:20240811T190000
DTSTAMP:20260423T175103
CREATED:20240709T192033Z
LAST-MODIFIED:20240709T194537Z
UID:55495-1722927600-1723402800@livingsnoqualmie.com
SUMMARY:Annual Boeing Classic 2024
DESCRIPTION:Annual Boeing Classic 2024 \n  \nBoeing\, Virginia Mason Franciscan Health (VMFH) and the Seattle Seahawks will hold the 19th annual\nBoeing Classic professional golf tournament on Monday\, Aug. 5 through Sunday\, Aug. 11. The event is\nan opportunity for Puget Sound residents to experience professional golf and other exciting events\,\nsuch as a Kids Clinic\, Boeing Jet flyovers and a new Seahawks Village. \nSpectators can enjoy the new interactive located above the 18th hole where former Seahawks players will sign autographs. Other\nactivities include a DJ booth\, silent disco\, family crafts\, and a Seahawks putting green and a lounge\narea overlooking the 18th hole. As the primary beneficiary of the Boeing Classic\, the Benaroya\nResearch Institute (BRI) at VMFH – a world leader in human immunology – uses the proceeds to\nadvance cutting-edge research to predict\, prevent\, reverse and cure diseases that involve the immune\nsystem. \nDate and time: August 6-11\, 2024\n● Tuesday\, August 6: 9:00 am – 5 pm (PGA TOUR Champions Practice Round ALL DAY)\n● Wednesday\, August 7: 7:00 am – 7:00 pm\n● Thursday\, August 8: 7:00 am – 12:20 pm\n● Friday\, August 9: 9:00 am – 6:30 pm\n● Saturday\, August 10: 8:00 am – 5:00 pm\n● Sunday\, August 11: 8:00 am – 5:00 pm
URL:https://livingsnoqualmie.com/event/annual-boeing-classic-2024/
LOCATION:The Club at Snoqualmie Ridge\, 36005 SE Ridge Street\, Snoqualmie\, WA\, 98065\, United States
END:VEVENT
END:VCALENDAR