BEGIN:VCALENDAR
VERSION:2.0
PRODID:-//Living Snoqualmie - ECPv6.15.20//NONSGML v1.0//EN
CALSCALE:GREGORIAN
METHOD:PUBLISH
X-ORIGINAL-URL:https://livingsnoqualmie.com
X-WR-CALDESC:Events for Living Snoqualmie
REFRESH-INTERVAL;VALUE=DURATION:PT1H
X-Robots-Tag:noindex
X-PUBLISHED-TTL:PT1H
BEGIN:VTIMEZONE
TZID:America/Los_Angeles
BEGIN:DAYLIGHT
TZOFFSETFROM:-0800
TZOFFSETTO:-0700
TZNAME:PDT
DTSTART:20230312T100000
END:DAYLIGHT
BEGIN:STANDARD
TZOFFSETFROM:-0700
TZOFFSETTO:-0800
TZNAME:PST
DTSTART:20231105T090000
END:STANDARD
BEGIN:DAYLIGHT
TZOFFSETFROM:-0800
TZOFFSETTO:-0700
TZNAME:PDT
DTSTART:20240310T100000
END:DAYLIGHT
BEGIN:STANDARD
TZOFFSETFROM:-0700
TZOFFSETTO:-0800
TZNAME:PST
DTSTART:20241103T090000
END:STANDARD
BEGIN:DAYLIGHT
TZOFFSETFROM:-0800
TZOFFSETTO:-0700
TZNAME:PDT
DTSTART:20250309T100000
END:DAYLIGHT
BEGIN:STANDARD
TZOFFSETFROM:-0700
TZOFFSETTO:-0800
TZNAME:PST
DTSTART:20251102T090000
END:STANDARD
END:VTIMEZONE
BEGIN:VEVENT
DTSTART;TZID=America/Los_Angeles:20240618T180000
DTEND;TZID=America/Los_Angeles:20240618T203000
DTSTAMP:20260423T213227
CREATED:20240525T014918Z
LAST-MODIFIED:20240525T015037Z
UID:54795-1718733600-1718742600@livingsnoqualmie.com
SUMMARY:William Grassie Wine Estates ~ Snoqualmie Ridge Tasting Room Wax\, Wix & Wine
DESCRIPTION:William Grassie Wine Estates \nSnoqualmie Ridge Tasting Room \nWax\, Wix & Wine \nTuesday\, June 18th from 6pm – 8:30pm \n  \nDetails: This class is for a 2-candle make & take workshop seat for one person. The cost for the workshop is $50 (early bird special of $45 if you register and pay before June 1st). Your first glass of wine is included! You will learn about each component of your candles + create your own scent blend! \n  \nTo register and pay for this class\, click the link below to fill out the form. \nhttps://forms.gle/jkdbom7MSFqQGGF68 \nOnce you fill out this form\, please follow the link to pay via Venmo. Your seat is not secured until you are paid. There are only a maximum on 15 spots available\, so it is very limited.
URL:https://livingsnoqualmie.com/event/william-grassie-wine-estates-snoqualmie-ridge-tasting-room-wax-wix-wine/
LOCATION:Wm Grassie Wine Estates\, 7802 Center Blvd SE\, Suite A\, Snoqualmie\, WA\, 98065\, United States
END:VEVENT
END:VCALENDAR