BEGIN:VCALENDAR
VERSION:2.0
PRODID:-//Living Snoqualmie - ECPv6.15.20//NONSGML v1.0//EN
CALSCALE:GREGORIAN
METHOD:PUBLISH
X-WR-CALNAME:Living Snoqualmie
X-ORIGINAL-URL:https://livingsnoqualmie.com
X-WR-CALDESC:Events for Living Snoqualmie
REFRESH-INTERVAL;VALUE=DURATION:PT1H
X-Robots-Tag:noindex
X-PUBLISHED-TTL:PT1H
BEGIN:VTIMEZONE
TZID:America/Los_Angeles
BEGIN:DAYLIGHT
TZOFFSETFROM:-0800
TZOFFSETTO:-0700
TZNAME:PDT
DTSTART:20230312T100000
END:DAYLIGHT
BEGIN:STANDARD
TZOFFSETFROM:-0700
TZOFFSETTO:-0800
TZNAME:PST
DTSTART:20231105T090000
END:STANDARD
BEGIN:DAYLIGHT
TZOFFSETFROM:-0800
TZOFFSETTO:-0700
TZNAME:PDT
DTSTART:20240310T100000
END:DAYLIGHT
BEGIN:STANDARD
TZOFFSETFROM:-0700
TZOFFSETTO:-0800
TZNAME:PST
DTSTART:20241103T090000
END:STANDARD
BEGIN:DAYLIGHT
TZOFFSETFROM:-0800
TZOFFSETTO:-0700
TZNAME:PDT
DTSTART:20250309T100000
END:DAYLIGHT
BEGIN:STANDARD
TZOFFSETFROM:-0700
TZOFFSETTO:-0800
TZNAME:PST
DTSTART:20251102T090000
END:STANDARD
END:VTIMEZONE
BEGIN:VEVENT
DTSTART;TZID=America/Los_Angeles:20240615T110000
DTEND;TZID=America/Los_Angeles:20240615T160000
DTSTAMP:20260423T213234
CREATED:20240407T171320Z
LAST-MODIFIED:20240407T171320Z
UID:54194-1718449200-1718467200@livingsnoqualmie.com
SUMMARY:Art Off The Rails
DESCRIPTION:Art Off the Rails is BACK for it’s second year\, on Saturday June 15\, 2024 from 11AM to 4PM. This event is planned by three awesome organizations\, making it a collaborative festival designed to highlight Snoqualmie Valley Artists and how the Railroad connects our community. NBA&I is honored to be working with the NW Railway Museum and Historic Downtown Snoqualmie to bring this festival to our community.\nThis festival will be held at three unique locations. North Bend Art & Industry is hosting the festival at the William Henry Taylor Railroad Park in North Bend. We will have music\, great food trucks\, a delicious popcorn vendor\, dance circles\, a community art project\, and fabulous ARTISTS & Authors. On top of that\, the Steam Train is running during this time.\nThe NW Railway Museum is hosting the festival at the Railway History Campus and the Historic Downtown Snoqualmie is hosting the festival at Snoqualmie Railroad Community Park. More info will be shared soon about these locations.
URL:https://livingsnoqualmie.com/event/art-off-the-rails/
LOCATION:Railroad Park\, 7971 Railroad Ave\, Snoqualmie\, WA\, 98065\, United States
END:VEVENT
END:VCALENDAR