BEGIN:VCALENDAR
VERSION:2.0
PRODID:-//Living Snoqualmie - ECPv6.15.20//NONSGML v1.0//EN
CALSCALE:GREGORIAN
METHOD:PUBLISH
X-WR-CALNAME:Living Snoqualmie
X-ORIGINAL-URL:https://livingsnoqualmie.com
X-WR-CALDESC:Events for Living Snoqualmie
REFRESH-INTERVAL;VALUE=DURATION:PT1H
X-Robots-Tag:noindex
X-PUBLISHED-TTL:PT1H
BEGIN:VTIMEZONE
TZID:America/Los_Angeles
BEGIN:DAYLIGHT
TZOFFSETFROM:-0800
TZOFFSETTO:-0700
TZNAME:PDT
DTSTART:20230312T100000
END:DAYLIGHT
BEGIN:STANDARD
TZOFFSETFROM:-0700
TZOFFSETTO:-0800
TZNAME:PST
DTSTART:20231105T090000
END:STANDARD
BEGIN:DAYLIGHT
TZOFFSETFROM:-0800
TZOFFSETTO:-0700
TZNAME:PDT
DTSTART:20240310T100000
END:DAYLIGHT
BEGIN:STANDARD
TZOFFSETFROM:-0700
TZOFFSETTO:-0800
TZNAME:PST
DTSTART:20241103T090000
END:STANDARD
BEGIN:DAYLIGHT
TZOFFSETFROM:-0800
TZOFFSETTO:-0700
TZNAME:PDT
DTSTART:20250309T100000
END:DAYLIGHT
BEGIN:STANDARD
TZOFFSETFROM:-0700
TZOFFSETTO:-0800
TZNAME:PST
DTSTART:20251102T090000
END:STANDARD
END:VTIMEZONE
BEGIN:VEVENT
DTSTART;TZID=America/Los_Angeles:20240601T090000
DTEND;TZID=America/Los_Angeles:20240601T220000
DTSTAMP:20260423T213208
CREATED:20240407T163531Z
LAST-MODIFIED:20240407T163531Z
UID:54186-1717232400-1717279200@livingsnoqualmie.com
SUMMARY:Duvall Days
DESCRIPTION:This 64th annual festival celebrates the “Small Town / Real Life” community spirit of Duvall\, WA and the lower Snoqualmie Valley. Mark your calendars for May 31st and June 1st\, as the festival will kick off Friday night\, May 31st\, with the Riverview Education Foundation 5K run in McCormick Park. \nSaturday\, June 1st\, will kick off with the Duvall Days Grand Parade.  Duvall’s Main Street will be closed to traffic and becomes a pedestrian mall lined with vendor booths\, live music\, youth performances\, and art demonstrations. The fun spills over into local parks where visitors enjoy kids’ play zones\, contests and games\, food vendors\, a beer garden\, and more. We have an entertaining musical lineup for this year’s event planned for the evening followed by traditional fireworks!
URL:https://livingsnoqualmie.com/event/duvall-days/
LOCATION:Duvall Main Street\, Duvall\, WA
END:VEVENT
BEGIN:VEVENT
DTSTART;TZID=America/Los_Angeles:20240601T190000
DTEND;TZID=America/Los_Angeles:20240601T230000
DTSTAMP:20260423T213208
CREATED:20240525T013243Z
LAST-MODIFIED:20240525T013243Z
UID:54783-1717268400-1717282800@livingsnoqualmie.com
SUMMARY:William Grassie Wine Estates ~Snoqualmie Ridge Tasting Room Live Comedy Night!
DESCRIPTION:William Grassie Wine Estates \nSnoqualmie Ridge Tasting Room \nLive Comedy Night! \nSaturday\, June 1st\,  9 pm \nDetails: Join us for another special night of live comedy at our Snoqualmie tasting room with comedic headliner Susan Rice! Also featuring Thomas Friday and hosted by Alison Rose. \nLink to purchase tickets here: \n9pm Show: https://bit.ly/4bhsk9d
URL:https://livingsnoqualmie.com/event/william-grassie-wine-estates-snoqualmie-ridge-tasting-room-live-comedy-night/
LOCATION:Wm Grassie Wine Estates\, 7802 Center Blvd SE\, Suite A\, Snoqualmie\, WA\, 98065\, United States
END:VEVENT
END:VCALENDAR