BEGIN:VCALENDAR
VERSION:2.0
PRODID:-//Living Snoqualmie - ECPv6.15.20//NONSGML v1.0//EN
CALSCALE:GREGORIAN
METHOD:PUBLISH
X-ORIGINAL-URL:https://livingsnoqualmie.com
X-WR-CALDESC:Events for Living Snoqualmie
REFRESH-INTERVAL;VALUE=DURATION:PT1H
X-Robots-Tag:noindex
X-PUBLISHED-TTL:PT1H
BEGIN:VTIMEZONE
TZID:America/Los_Angeles
BEGIN:DAYLIGHT
TZOFFSETFROM:-0800
TZOFFSETTO:-0700
TZNAME:PDT
DTSTART:20230312T100000
END:DAYLIGHT
BEGIN:STANDARD
TZOFFSETFROM:-0700
TZOFFSETTO:-0800
TZNAME:PST
DTSTART:20231105T090000
END:STANDARD
BEGIN:DAYLIGHT
TZOFFSETFROM:-0800
TZOFFSETTO:-0700
TZNAME:PDT
DTSTART:20240310T100000
END:DAYLIGHT
BEGIN:STANDARD
TZOFFSETFROM:-0700
TZOFFSETTO:-0800
TZNAME:PST
DTSTART:20241103T090000
END:STANDARD
BEGIN:DAYLIGHT
TZOFFSETFROM:-0800
TZOFFSETTO:-0700
TZNAME:PDT
DTSTART:20250309T100000
END:DAYLIGHT
BEGIN:STANDARD
TZOFFSETFROM:-0700
TZOFFSETTO:-0800
TZNAME:PST
DTSTART:20251102T090000
END:STANDARD
END:VTIMEZONE
BEGIN:VEVENT
DTSTART;TZID=America/Los_Angeles:20240404T180000
DTEND;TZID=America/Los_Angeles:20240404T203000
DTSTAMP:20260424T011311
CREATED:20240322T013307Z
LAST-MODIFIED:20240322T013307Z
UID:53974-1712253600-1712262600@livingsnoqualmie.com
SUMMARY:William Grassie Wine Estates Snoqualmie Ridge Tasting Room: Beginner’s Painting w/Gouache: Spring Florals
DESCRIPTION:William Grassie Wine Estates \nSnoqualmie Ridge Tasting Room \nBeginner’s Painting w/Gouache: Spring Florals \nThursday\, April 4th 6 pm – 8:30 pm \n  \nDetails: Experience the Fun of Gouache Painting. Learn basic painting and paint-mixing techniques while creating beautiful masterpieces of florals such as sunflowers\, roses\, greenery\, and more! \nRegister Here: Painting with Gouache: Spring Florals — works from the heART
URL:https://livingsnoqualmie.com/event/william-grassie-wine-estates-snoqualmie-ridge-tasting-room-beginners-painting-w-gouache-spring-florals/
LOCATION:Wm Grassie Wine Estates\, 7802 Center Blvd SE\, Suite A\, Snoqualmie\, WA\, 98065\, United States
END:VEVENT
END:VCALENDAR