BEGIN:VCALENDAR
VERSION:2.0
PRODID:-//Living Snoqualmie - ECPv6.15.20//NONSGML v1.0//EN
CALSCALE:GREGORIAN
METHOD:PUBLISH
X-WR-CALNAME:Living Snoqualmie
X-ORIGINAL-URL:https://livingsnoqualmie.com
X-WR-CALDESC:Events for Living Snoqualmie
REFRESH-INTERVAL;VALUE=DURATION:PT1H
X-Robots-Tag:noindex
X-PUBLISHED-TTL:PT1H
BEGIN:VTIMEZONE
TZID:America/Los_Angeles
BEGIN:DAYLIGHT
TZOFFSETFROM:-0800
TZOFFSETTO:-0700
TZNAME:PDT
DTSTART:20230312T100000
END:DAYLIGHT
BEGIN:STANDARD
TZOFFSETFROM:-0700
TZOFFSETTO:-0800
TZNAME:PST
DTSTART:20231105T090000
END:STANDARD
BEGIN:DAYLIGHT
TZOFFSETFROM:-0800
TZOFFSETTO:-0700
TZNAME:PDT
DTSTART:20240310T100000
END:DAYLIGHT
BEGIN:STANDARD
TZOFFSETFROM:-0700
TZOFFSETTO:-0800
TZNAME:PST
DTSTART:20241103T090000
END:STANDARD
BEGIN:DAYLIGHT
TZOFFSETFROM:-0800
TZOFFSETTO:-0700
TZNAME:PDT
DTSTART:20250309T100000
END:DAYLIGHT
BEGIN:STANDARD
TZOFFSETFROM:-0700
TZOFFSETTO:-0800
TZNAME:PST
DTSTART:20251102T090000
END:STANDARD
END:VTIMEZONE
BEGIN:VEVENT
DTSTART;TZID=America/Los_Angeles:20240323T120000
DTEND;TZID=America/Los_Angeles:20240323T180000
DTSTAMP:20260424T042711
CREATED:20240301T230118Z
LAST-MODIFIED:20240301T230118Z
UID:53745-1711195200-1711216800@livingsnoqualmie.com
SUMMARY:Orenda Winery Rebrands as Alveare Winery in Tribute to the Industrious Beehive
DESCRIPTION:The brand relaunch will be celebrated with a re-grand opening at the Carnation winery on March 23rd and 24th from noon to 6 pm. The celebration will include wine samples\, music and a food truck. \nAlveare Winery is located at 32305 NE 8th Street in Carnation. The tasting room is open Saturdays and Sundays from 1 to 5 p.m. With expanded Friday hours from 3pm to 7pm starting March 29th.
URL:https://livingsnoqualmie.com/event/orenda-winery-rebrands-as-alveare-winery-in-tribute-to-the-industrious-beehive/
LOCATION:Alveare Winery\, 32305 NE 8th Street\, Carnation\, WA\, 98014\, United States
ORGANIZER;CN="Alveare Winery":MAILTO:samantha@alvearewinery.com
END:VEVENT
BEGIN:VEVENT
DTSTART;TZID=America/Los_Angeles:20240323T130000
DTEND;TZID=America/Los_Angeles:20240323T130000
DTSTAMP:20260424T042711
CREATED:20240224T215327Z
LAST-MODIFIED:20240224T215327Z
UID:53628-1711198800-1711198800@livingsnoqualmie.com
SUMMARY:William Grassie Wine Estates-Snoqualmie Ridge Tasting Room: Sip & Shop Artisan Pop-Up with Allium & Thistle
DESCRIPTION:William Grassie Wine Estates \nSnoqualmie Ridge Tasting Room \nSip & Shop Artisan Pop-Up with Allium & Thistle \nSat\, March 23rd\, and Sun\, March 24th\, starting at 1 pm both days \nDetails: Join us and Christina Doerfel of Allium + Thistle for a Springtime sip and shop pop-up event! Christina will be showcasing her beautifully homemade candles and naturally crafted bath/body products made right here in the Valley! Grab the friend group\, sip wine and shop local!
URL:https://livingsnoqualmie.com/event/william-grassie-wine-estates-snoqualmie-ridge-tasting-room-sip-shop-artisan-pop-up-with-allium-thistle/
LOCATION:Wm Grassie Wine Estates\, 7802 Center Blvd SE\, Suite A\, Snoqualmie\, WA\, 98065\, United States
END:VEVENT
END:VCALENDAR