BEGIN:VCALENDAR
VERSION:2.0
PRODID:-//Living Snoqualmie - ECPv6.15.20//NONSGML v1.0//EN
CALSCALE:GREGORIAN
METHOD:PUBLISH
X-WR-CALNAME:Living Snoqualmie
X-ORIGINAL-URL:https://livingsnoqualmie.com
X-WR-CALDESC:Events for Living Snoqualmie
REFRESH-INTERVAL;VALUE=DURATION:PT1H
X-Robots-Tag:noindex
X-PUBLISHED-TTL:PT1H
BEGIN:VTIMEZONE
TZID:America/Los_Angeles
BEGIN:DAYLIGHT
TZOFFSETFROM:-0800
TZOFFSETTO:-0700
TZNAME:PDT
DTSTART:20230312T100000
END:DAYLIGHT
BEGIN:STANDARD
TZOFFSETFROM:-0700
TZOFFSETTO:-0800
TZNAME:PST
DTSTART:20231105T090000
END:STANDARD
BEGIN:DAYLIGHT
TZOFFSETFROM:-0800
TZOFFSETTO:-0700
TZNAME:PDT
DTSTART:20240310T100000
END:DAYLIGHT
BEGIN:STANDARD
TZOFFSETFROM:-0700
TZOFFSETTO:-0800
TZNAME:PST
DTSTART:20241103T090000
END:STANDARD
BEGIN:DAYLIGHT
TZOFFSETFROM:-0800
TZOFFSETTO:-0700
TZNAME:PDT
DTSTART:20250309T100000
END:DAYLIGHT
BEGIN:STANDARD
TZOFFSETFROM:-0700
TZOFFSETTO:-0800
TZNAME:PST
DTSTART:20251102T090000
END:STANDARD
END:VTIMEZONE
BEGIN:VEVENT
DTSTART;TZID=America/Los_Angeles:20240322T180000
DTEND;TZID=America/Los_Angeles:20240322T180000
DTSTAMP:20260424T042750
CREATED:20240224T214654Z
LAST-MODIFIED:20240224T214654Z
UID:53625-1711130400-1711130400@livingsnoqualmie.com
SUMMARY:William Grassie Wine Estates-Snoqualmie Ridge Tasting Room: Live Music with Mattlock and the Keys
DESCRIPTION:William Grassie Wine Estates \nSnoqualmie Ridge Tasting Room \nLive Music with Mattlock And The Keys \nFriday\, March 22nd at 6 pm \nDetails: Come see indie rock band Mattlock and The Keys play our Snoqualmie tasting room! Expect a blend of covers and original music combining elements of rock\, jam\, and a dash of reggae! Their soulful songs are as varied as the musicians giving them life!
URL:https://livingsnoqualmie.com/event/william-grassie-wine-estates-snoqualmie-ridge-tasting-room-live-music-with-mattlock-and-the-keys/
LOCATION:Wm Grassie Wine Estates\, 7802 Center Blvd SE\, Suite A\, Snoqualmie\, WA\, 98065\, United States
END:VEVENT
END:VCALENDAR