BEGIN:VCALENDAR
VERSION:2.0
PRODID:-//Living Snoqualmie - ECPv6.15.17.1//NONSGML v1.0//EN
CALSCALE:GREGORIAN
METHOD:PUBLISH
X-ORIGINAL-URL:https://livingsnoqualmie.com
X-WR-CALDESC:Events for Living Snoqualmie
REFRESH-INTERVAL;VALUE=DURATION:PT1H
X-Robots-Tag:noindex
X-PUBLISHED-TTL:PT1H
BEGIN:VTIMEZONE
TZID:America/Los_Angeles
BEGIN:DAYLIGHT
TZOFFSETFROM:-0800
TZOFFSETTO:-0700
TZNAME:PDT
DTSTART:20220313T100000
END:DAYLIGHT
BEGIN:STANDARD
TZOFFSETFROM:-0700
TZOFFSETTO:-0800
TZNAME:PST
DTSTART:20221106T090000
END:STANDARD
BEGIN:DAYLIGHT
TZOFFSETFROM:-0800
TZOFFSETTO:-0700
TZNAME:PDT
DTSTART:20230312T100000
END:DAYLIGHT
BEGIN:STANDARD
TZOFFSETFROM:-0700
TZOFFSETTO:-0800
TZNAME:PST
DTSTART:20231105T090000
END:STANDARD
BEGIN:DAYLIGHT
TZOFFSETFROM:-0800
TZOFFSETTO:-0700
TZNAME:PDT
DTSTART:20240310T100000
END:DAYLIGHT
BEGIN:STANDARD
TZOFFSETFROM:-0700
TZOFFSETTO:-0800
TZNAME:PST
DTSTART:20241103T090000
END:STANDARD
END:VTIMEZONE
BEGIN:VEVENT
DTSTART;TZID=America/Los_Angeles:20230415T193000
DTEND;TZID=America/Los_Angeles:20230430T210000
DTSTAMP:20260419T054659
CREATED:20230416T211721Z
LAST-MODIFIED:20230416T211721Z
UID:50076-1681587000-1682888400@livingsnoqualmie.com
SUMMARY:Valley Center Stage Presents Picasso at the Lapin Agile
DESCRIPTION:Picasso at the Lapin Agile by Steve Martin\nValley Center Stage\, North Bend\, WA\nApril 14-30\nTickets and dates: https://valleycenterstage.org/picasso\n\n\nAlbert Einstein and Pablo Picasso meet at a bar called the Lapin Agile (French: “Nimble Rabbit”) in Montmartre\, Paris. Both men are on the verge of disclosing amazing ideas: Einstein will publish his special theory of relativity\, and Picasso will paint Les Demoiselles d’Avignon. At the Lapin Agile\, they have a lengthy debate about the value of genius and talent while interacting with a host of other characters. \nThe play attempts to explain\, in a light-hearted way\, the similarity of the creative process involved in great leaps of imagination in art and science. \n\n\nAn additional matinee for this production is Saturday\, 4/29.
URL:https://livingsnoqualmie.com/event/valley-center-stage-presents-picasso-at-the-lapin-agile/
LOCATION:Valley Center Stage\, 1060 Stilson Ave SE\, North Bend\, WA\, 98045\, United States
END:VEVENT
END:VCALENDAR