BEGIN:VCALENDAR
VERSION:2.0
PRODID:-//Living Snoqualmie - ECPv6.15.17.1//NONSGML v1.0//EN
CALSCALE:GREGORIAN
METHOD:PUBLISH
X-WR-CALNAME:Living Snoqualmie
X-ORIGINAL-URL:https://livingsnoqualmie.com
X-WR-CALDESC:Events for Living Snoqualmie
REFRESH-INTERVAL;VALUE=DURATION:PT1H
X-Robots-Tag:noindex
X-PUBLISHED-TTL:PT1H
BEGIN:VTIMEZONE
TZID:America/Los_Angeles
BEGIN:DAYLIGHT
TZOFFSETFROM:-0800
TZOFFSETTO:-0700
TZNAME:PDT
DTSTART:20220313T100000
END:DAYLIGHT
BEGIN:STANDARD
TZOFFSETFROM:-0700
TZOFFSETTO:-0800
TZNAME:PST
DTSTART:20221106T090000
END:STANDARD
BEGIN:DAYLIGHT
TZOFFSETFROM:-0800
TZOFFSETTO:-0700
TZNAME:PDT
DTSTART:20230312T100000
END:DAYLIGHT
BEGIN:STANDARD
TZOFFSETFROM:-0700
TZOFFSETTO:-0800
TZNAME:PST
DTSTART:20231105T090000
END:STANDARD
BEGIN:DAYLIGHT
TZOFFSETFROM:-0800
TZOFFSETTO:-0700
TZNAME:PDT
DTSTART:20240310T100000
END:DAYLIGHT
BEGIN:STANDARD
TZOFFSETFROM:-0700
TZOFFSETTO:-0800
TZNAME:PST
DTSTART:20241103T090000
END:STANDARD
END:VTIMEZONE
BEGIN:VEVENT
DTSTART;TZID=America/Los_Angeles:20230408T110000
DTEND;TZID=America/Los_Angeles:20230408T140000
DTSTAMP:20260419T054553
CREATED:20230406T154040Z
LAST-MODIFIED:20230406T154040Z
UID:50014-1680951600-1680962400@livingsnoqualmie.com
SUMMARY:Art Gallery of Sno Valley: Sweet Art Treats & Artist Demos
DESCRIPTION:Art Gallery of Sno Valley: Sweet Art Treats & Artist Demos \nSaturday\, April 8th\, 11:00-2:00  @ 11:30 am plein air artist Yi-Ju Miller will demo her bold yet graceful painting style \n\nSunday\, April 9 @ 11:30 am Diane Sarr will demo how she creates collagraphs\, a form of printmaking\n\n\n\nThe gallery is open daily\, 11 am- 5 pm. See you there!
URL:https://livingsnoqualmie.com/event/art-gallery-of-sno-valley-sweet-art-treats-artist-demos/
LOCATION:Art Gallery Sno Valley\, 8130 Railroad Ave SE\, Snoqualmie\, WA\, 98065\, United States
END:VEVENT
END:VCALENDAR