BEGIN:VCALENDAR
VERSION:2.0
PRODID:-//Living Snoqualmie - ECPv6.15.17.1//NONSGML v1.0//EN
CALSCALE:GREGORIAN
METHOD:PUBLISH
X-ORIGINAL-URL:https://livingsnoqualmie.com
X-WR-CALDESC:Events for Living Snoqualmie
REFRESH-INTERVAL;VALUE=DURATION:PT1H
X-Robots-Tag:noindex
X-PUBLISHED-TTL:PT1H
BEGIN:VTIMEZONE
TZID:America/Los_Angeles
BEGIN:DAYLIGHT
TZOFFSETFROM:-0800
TZOFFSETTO:-0700
TZNAME:PDT
DTSTART:20210314T100000
END:DAYLIGHT
BEGIN:STANDARD
TZOFFSETFROM:-0700
TZOFFSETTO:-0800
TZNAME:PST
DTSTART:20211107T090000
END:STANDARD
BEGIN:DAYLIGHT
TZOFFSETFROM:-0800
TZOFFSETTO:-0700
TZNAME:PDT
DTSTART:20220313T100000
END:DAYLIGHT
BEGIN:STANDARD
TZOFFSETFROM:-0700
TZOFFSETTO:-0800
TZNAME:PST
DTSTART:20221106T090000
END:STANDARD
BEGIN:DAYLIGHT
TZOFFSETFROM:-0800
TZOFFSETTO:-0700
TZNAME:PDT
DTSTART:20230312T100000
END:DAYLIGHT
BEGIN:STANDARD
TZOFFSETFROM:-0700
TZOFFSETTO:-0800
TZNAME:PST
DTSTART:20231105T090000
END:STANDARD
END:VTIMEZONE
BEGIN:VEVENT
DTSTART;TZID=America/Los_Angeles:20221126T220000
DTEND;TZID=America/Los_Angeles:20221126T220000
DTSTAMP:20260419T203826
CREATED:20221121T173807Z
LAST-MODIFIED:20221121T173807Z
UID:49316-1669500000-1669500000@livingsnoqualmie.com
SUMMARY:Valley Center Stage Presents the Thanksgiving Play
DESCRIPTION:7:30 pm – 10:00 pm Saturday\, November 26th Valley Center Stage / Sallal Grange 1060 Stilson Ave SE\, North Bend. \nWritten by Larissa FastHorse \nDirected by Robin Walbeck-Forrest \nGood intentions collide with absurd assumptions in this wickedly funny satire about teaching artists who try to create a pageant that celebrates Turkey Day and Native American Heritage Month. \nOnline ticket sales close two hours before the doors open.\nDoors open at 7:00 p.m.\nThe show starts at 7:30 pm. \n 
URL:https://livingsnoqualmie.com/event/valley-center-stage-presents-the-thanksgiving-play/
LOCATION:Valley Center Stage\, 1060 Stilson Ave SE\, North Bend\, WA\, 98045\, United States
END:VEVENT
END:VCALENDAR