BEGIN:VCALENDAR
VERSION:2.0
PRODID:-//Living Snoqualmie - ECPv6.15.17.1//NONSGML v1.0//EN
CALSCALE:GREGORIAN
METHOD:PUBLISH
X-WR-CALNAME:Living Snoqualmie
X-ORIGINAL-URL:https://livingsnoqualmie.com
X-WR-CALDESC:Events for Living Snoqualmie
REFRESH-INTERVAL;VALUE=DURATION:PT1H
X-Robots-Tag:noindex
X-PUBLISHED-TTL:PT1H
BEGIN:VTIMEZONE
TZID:America/Los_Angeles
BEGIN:DAYLIGHT
TZOFFSETFROM:-0800
TZOFFSETTO:-0700
TZNAME:PDT
DTSTART:20210314T100000
END:DAYLIGHT
BEGIN:STANDARD
TZOFFSETFROM:-0700
TZOFFSETTO:-0800
TZNAME:PST
DTSTART:20211107T090000
END:STANDARD
BEGIN:DAYLIGHT
TZOFFSETFROM:-0800
TZOFFSETTO:-0700
TZNAME:PDT
DTSTART:20220313T100000
END:DAYLIGHT
BEGIN:STANDARD
TZOFFSETFROM:-0700
TZOFFSETTO:-0800
TZNAME:PST
DTSTART:20221106T090000
END:STANDARD
BEGIN:DAYLIGHT
TZOFFSETFROM:-0800
TZOFFSETTO:-0700
TZNAME:PDT
DTSTART:20230312T100000
END:DAYLIGHT
BEGIN:STANDARD
TZOFFSETFROM:-0700
TZOFFSETTO:-0800
TZNAME:PST
DTSTART:20231105T090000
END:STANDARD
END:VTIMEZONE
BEGIN:VEVENT
DTSTART;TZID=America/Los_Angeles:20221021T171500
DTEND;TZID=America/Los_Angeles:20221021T210000
DTSTAMP:20260419T172316
CREATED:20221019T203112Z
LAST-MODIFIED:20221019T203112Z
UID:49134-1666372500-1666386000@livingsnoqualmie.com
SUMMARY:NIGHT OF CHAMPIONS  Mount Si Basketball Booster Club Auction
DESCRIPTION:EVENT DETAILS \nFriday October 21\, 2022 5:15pm-9pm\, Meadowbrook Farm \nThe Mt Si Basketball Booster club welcomes new and returning families to our first annual fundraising auction! Come dressed in Wildcat Gear! \nMoney from the auction supports the following: \nTravel: Out-of-town games/tournaments/post-season play\nCompensation to assistant coaches\nState PlayoffsTransportation\nOff Season workouts\nSenior scholarships\nCheck-in starts at 5:15\, where you can preview the silent auction items\, catch up with friends\, and enjoy the photo booth and games. \nThe silent auction closes at 7pm. \nDinner will be followed by a live auction\, and messages from students and coaches\, and there will be a special opportunity to support the basketball program. \nClick here to preview the live Auction items. \nAppetizers provided by Dukes Seafood \nDinner provided by Los Chilangos Mexican Food Truck \nThe attire for the evening will be a WILDCAT out! \nFollow “Mt Si Hoops” on Instagram and “Mount Si High School Boys Basketball” on Facebook for event updates and special cameos by students and sponsors. \nGO CATS!! \nTicket Pricing(each ticket includes dinner and two drink tickets):: \nSingle: $75 \nCouple: $150 \nAdditional Drink Tickets: $5 each(drink tickets will also be sold at check in) \nSpecial thanks to our community donors for generously supporting this event through sponsorships and auction donations! \nAll proceeds benefit the High School Basketball Program \nat www.mountsibasketball.com. \nIf you cannot attend the event but want to donate to the program\, click here. Thank you! \n  \n 
URL:https://livingsnoqualmie.com/event/night-of-champions-mount-si-basketball-booster-club-auction/
LOCATION:Meadowbrook Farm\, 1711 Boalch Ave NW\, North Bend\, WA\, 98045\, United States
END:VEVENT
END:VCALENDAR