BEGIN:VCALENDAR
VERSION:2.0
PRODID:-//Living Snoqualmie - ECPv6.15.17.1//NONSGML v1.0//EN
CALSCALE:GREGORIAN
METHOD:PUBLISH
X-ORIGINAL-URL:https://livingsnoqualmie.com
X-WR-CALDESC:Events for Living Snoqualmie
REFRESH-INTERVAL;VALUE=DURATION:PT1H
X-Robots-Tag:noindex
X-PUBLISHED-TTL:PT1H
BEGIN:VTIMEZONE
TZID:America/Los_Angeles
BEGIN:DAYLIGHT
TZOFFSETFROM:-0800
TZOFFSETTO:-0700
TZNAME:PDT
DTSTART:20210314T100000
END:DAYLIGHT
BEGIN:STANDARD
TZOFFSETFROM:-0700
TZOFFSETTO:-0800
TZNAME:PST
DTSTART:20211107T090000
END:STANDARD
BEGIN:DAYLIGHT
TZOFFSETFROM:-0800
TZOFFSETTO:-0700
TZNAME:PDT
DTSTART:20220313T100000
END:DAYLIGHT
BEGIN:STANDARD
TZOFFSETFROM:-0700
TZOFFSETTO:-0800
TZNAME:PST
DTSTART:20221106T090000
END:STANDARD
BEGIN:DAYLIGHT
TZOFFSETFROM:-0800
TZOFFSETTO:-0700
TZNAME:PDT
DTSTART:20230312T100000
END:DAYLIGHT
BEGIN:STANDARD
TZOFFSETFROM:-0700
TZOFFSETTO:-0800
TZNAME:PST
DTSTART:20231105T090000
END:STANDARD
END:VTIMEZONE
BEGIN:VEVENT
DTSTART;TZID=America/Los_Angeles:20220730T190000
DTEND;TZID=America/Los_Angeles:20220730T210000
DTSTAMP:20260419T172455
CREATED:20220726T170809Z
LAST-MODIFIED:20220726T170809Z
UID:48696-1659207600-1659214800@livingsnoqualmie.com
SUMMARY:Duvall Tavern Presents Sweet N' Juicy
DESCRIPTION:15807 Main St NE\, Duvall\, WA 98019\, OR\, United States – Duvall Tavern\npresents Sweet N’ Juicy taking place on 7/30 from 7pm-9pm\, entry is FREE\,\n21+ \nLose yourself in a night of laughter and dancing with Sweet N’ Juicy\, the only band of fruit\nknown throughout the West Coast and beyond as being party music specialists. Their funky\nmusic and engaging performance will blow the roof off of Duvall Tavern on 7/30. Dancing\nstarts at 7pm; entry is FREE \n 
URL:https://livingsnoqualmie.com/event/duvall-tavern-presents-sweet-n-juicy/
LOCATION:Duvall Tavern\, 15807 Main St NE\, Duvall\, WA\, 98019\, United States
END:VEVENT
END:VCALENDAR