BEGIN:VCALENDAR
VERSION:2.0
PRODID:-//Living Snoqualmie - ECPv6.15.17.1//NONSGML v1.0//EN
CALSCALE:GREGORIAN
METHOD:PUBLISH
X-ORIGINAL-URL:https://livingsnoqualmie.com
X-WR-CALDESC:Events for Living Snoqualmie
REFRESH-INTERVAL;VALUE=DURATION:PT1H
X-Robots-Tag:noindex
X-PUBLISHED-TTL:PT1H
BEGIN:VTIMEZONE
TZID:America/Los_Angeles
BEGIN:DAYLIGHT
TZOFFSETFROM:-0800
TZOFFSETTO:-0700
TZNAME:PDT
DTSTART:20210314T100000
END:DAYLIGHT
BEGIN:STANDARD
TZOFFSETFROM:-0700
TZOFFSETTO:-0800
TZNAME:PST
DTSTART:20211107T090000
END:STANDARD
BEGIN:DAYLIGHT
TZOFFSETFROM:-0800
TZOFFSETTO:-0700
TZNAME:PDT
DTSTART:20220313T100000
END:DAYLIGHT
BEGIN:STANDARD
TZOFFSETFROM:-0700
TZOFFSETTO:-0800
TZNAME:PST
DTSTART:20221106T090000
END:STANDARD
BEGIN:DAYLIGHT
TZOFFSETFROM:-0800
TZOFFSETTO:-0700
TZNAME:PDT
DTSTART:20230312T100000
END:DAYLIGHT
BEGIN:STANDARD
TZOFFSETFROM:-0700
TZOFFSETTO:-0800
TZNAME:PST
DTSTART:20231105T090000
END:STANDARD
END:VTIMEZONE
BEGIN:VEVENT
DTSTART;TZID=America/Los_Angeles:20220503T183000
DTEND;TZID=America/Los_Angeles:20220503T203000
DTSTAMP:20260419T203827
CREATED:20220420T163559Z
LAST-MODIFIED:20220420T163559Z
UID:48151-1651602600-1651609800@livingsnoqualmie.com
SUMMARY:Boho Bracelet Class
DESCRIPTION:Boho Bracelet Class with Danalynn \nWhere: Volition Brewery 112 W. North Bend Way \nWhen: Tuesday\, May 3rd \nTime: 6:30-8:30 PM \nClass Cost: $35.00 includes materials \nSign at www.northbendartandindustry.org/classes \nLet your creativity loose with this fun\, artistic\, and unique bohemian bracelet-making class. You’ll learn a beading technique\, get color combo ideas\, and learn how to finish off the bracelets. These bracelets are beautiful\, and make wonderful gifts for someone you love… or for yourself! \nAll materials included! \nAND\, you can enjoy delicious beverages from Volition too\, and yummy food from the food truck too!!
URL:https://livingsnoqualmie.com/event/boho-bracelet-class/
LOCATION:Volition Brewery\, 112 W. North Bend Way\, North Bend\, 98045\, United States
END:VEVENT
END:VCALENDAR