BEGIN:VCALENDAR
VERSION:2.0
PRODID:-//Living Snoqualmie - ECPv6.15.17.1//NONSGML v1.0//EN
CALSCALE:GREGORIAN
METHOD:PUBLISH
X-WR-CALNAME:Living Snoqualmie
X-ORIGINAL-URL:https://livingsnoqualmie.com
X-WR-CALDESC:Events for Living Snoqualmie
REFRESH-INTERVAL;VALUE=DURATION:PT1H
X-Robots-Tag:noindex
X-PUBLISHED-TTL:PT1H
BEGIN:VTIMEZONE
TZID:America/Los_Angeles
BEGIN:DAYLIGHT
TZOFFSETFROM:-0800
TZOFFSETTO:-0700
TZNAME:PDT
DTSTART:20210314T100000
END:DAYLIGHT
BEGIN:STANDARD
TZOFFSETFROM:-0700
TZOFFSETTO:-0800
TZNAME:PST
DTSTART:20211107T090000
END:STANDARD
BEGIN:DAYLIGHT
TZOFFSETFROM:-0800
TZOFFSETTO:-0700
TZNAME:PDT
DTSTART:20220313T100000
END:DAYLIGHT
BEGIN:STANDARD
TZOFFSETFROM:-0700
TZOFFSETTO:-0800
TZNAME:PST
DTSTART:20221106T090000
END:STANDARD
BEGIN:DAYLIGHT
TZOFFSETFROM:-0800
TZOFFSETTO:-0700
TZNAME:PDT
DTSTART:20230312T100000
END:DAYLIGHT
BEGIN:STANDARD
TZOFFSETFROM:-0700
TZOFFSETTO:-0800
TZNAME:PST
DTSTART:20231105T090000
END:STANDARD
END:VTIMEZONE
BEGIN:VEVENT
DTSTART;TZID=America/Los_Angeles:20220319T150000
DTEND;TZID=America/Los_Angeles:20220319T150000
DTSTAMP:20260419T185243
CREATED:20220307T032341Z
LAST-MODIFIED:20220307T032341Z
UID:47850-1647702000-1647702000@livingsnoqualmie.com
SUMMARY:March of the Vegetables Parade
DESCRIPTION:The March of the Vegetables parade celebrates the art\, agriculture\, beauty\, and quirky\, vibrant small-town communities of the Snoqualmie Valley and beyond. The short parade will be followed by an after-party with live music\, free children’s activities\, and a beer garden at Depot Park\, 26227 NE Stephens St\, Duvall\, WA 98019. \nThe parade is a pedestrian-only event\, populated with people-powered floats\, handmade costumes\, and musicians\, all coming together to welcome the vegetables back for another growing season\, and to celebrate that even in this divisive time\, the humans have more in common with each other than not.  We love our children beyond measure\, we hope for good things for those we love\, we rely on farmers to feed us.  We take to the streets not in anger or protest\, but as a community carrots and radicchio.  All are welcome.  More information: marchofthevegetables.org
URL:https://livingsnoqualmie.com/event/march-of-the-vegetables-parade/
LOCATION:26401 NE Richardson St\, 26401 NE Richardson St\, Duvall\, WA\, 98010\, United States
END:VEVENT
END:VCALENDAR