BEGIN:VCALENDAR
VERSION:2.0
PRODID:-//Living Snoqualmie - ECPv6.15.17.1//NONSGML v1.0//EN
CALSCALE:GREGORIAN
METHOD:PUBLISH
X-ORIGINAL-URL:https://livingsnoqualmie.com
X-WR-CALDESC:Events for Living Snoqualmie
REFRESH-INTERVAL;VALUE=DURATION:PT1H
X-Robots-Tag:noindex
X-PUBLISHED-TTL:PT1H
BEGIN:VTIMEZONE
TZID:America/Los_Angeles
BEGIN:DAYLIGHT
TZOFFSETFROM:-0800
TZOFFSETTO:-0700
TZNAME:PDT
DTSTART:20210314T100000
END:DAYLIGHT
BEGIN:STANDARD
TZOFFSETFROM:-0700
TZOFFSETTO:-0800
TZNAME:PST
DTSTART:20211107T090000
END:STANDARD
BEGIN:DAYLIGHT
TZOFFSETFROM:-0800
TZOFFSETTO:-0700
TZNAME:PDT
DTSTART:20220313T100000
END:DAYLIGHT
BEGIN:STANDARD
TZOFFSETFROM:-0700
TZOFFSETTO:-0800
TZNAME:PST
DTSTART:20221106T090000
END:STANDARD
BEGIN:DAYLIGHT
TZOFFSETFROM:-0800
TZOFFSETTO:-0700
TZNAME:PDT
DTSTART:20230312T100000
END:DAYLIGHT
BEGIN:STANDARD
TZOFFSETFROM:-0700
TZOFFSETTO:-0800
TZNAME:PST
DTSTART:20231105T090000
END:STANDARD
END:VTIMEZONE
BEGIN:VEVENT
DTSTART;TZID=America/Los_Angeles:20220210T190000
DTEND;TZID=America/Los_Angeles:20220210T200000
DTSTAMP:20260419T185523
CREATED:20220206T171844Z
LAST-MODIFIED:20220206T171844Z
UID:47711-1644519600-1644523200@livingsnoqualmie.com
SUMMARY:Into the Dark Wood Webinar on Self Harm and Suicidal Ideation presented by Trail Youth
DESCRIPTION:Into the Dark Wood Webinar on Self Harm and Suicidal Ideation presented by Trail Youth \n\n\n\n\n\n\n\n\n\n\n\n\n\n\n\nJoin the Trail Youth for a three-part series:  What you need to know about self-harm and suicidal ideation webinar presented by Kristen Zuray\, BCCMHC\, CPRC\, CPC\, and cofounder of the Trail Youth. \nInto the Dark Woods of Suicide Ideation and Self-Harm 2/10 \nNight has descended and you’ve just discovered that your child is lost in the deep dark forest of the National Park. What are you going to do? Most likely\, you will call for a search and rescue team and go into the woods yourself to look for them. \nIf your child or someone you know is suffering from suicidal ideation or self-harm\, you must be willing to enter the dark tangled forest of their emotions and thoughts to find and rescue them. This first webinar will shed light on the thought processes and emotions that many experience in hopes that you as a caretaker will better understand where they are lost. \nLeading Them Out of the Woods of Suicide Ideation and Self-Harm 3/10 \nThis webinar will provide you with the flashlights and equipment needed to lead your child out of the forest of suicide ideation and self-harm. From discussing generational curses to the healing power of affirmations\, you will come away equipped to help guide your child back into a meaningful life. \nAfter the Woods of Suicide Ideation and Self-Harm 4/7 \nYour child is now in a much healthier emotional state of mind. How do you help support them in moving forward? Vision casting helps them find meaning in the future and keeps them from looking back at the past. \nEvent website https://m.bpt.me/event/5346095\n\n\n\nLocation\n\n\n\n\n\nOnline Event\nTimezone: America/Los_Angeles\n\n\n\n\nOnline Access Information\n\n\n\n\nYou will be provided instructions to access the digital content for this event. When and how these instructions are delivered to you is determined by the Event Organizer. To ensure access\, use an up-to-date email address and avoid unsubscribing from email updates. See the Help Center for more information.\n\n\n\nDates\n\n\n\n\n\n\n\n\nStart:\nThursday Feb 10\, 2022 7:00 PM\n\n\nEnd:\nThursday Feb 10\, 2022 8:00 PM\n\n\n\n\n\n\n\nPrices\n\n\n\n\n\n\n\n\nFree\n\n\n\n\n\n\n\nContact\n\n\n\n\n\n\n\n\nWho: \nThe Trail Youth\n\n\nWeb: \nhttp://trailyouth.com\n\n\n\n\n\n\n\nMore Info\n\n\n\n\n\n\n\n\nMinimum Age: 13
URL:https://livingsnoqualmie.com/event/into-the-dark-wood-webinar-on-self-harm-and-suicidal-ideation-presented-by-trail-youth/
LOCATION:WA
END:VEVENT
END:VCALENDAR