BEGIN:VCALENDAR
VERSION:2.0
PRODID:-//Living Snoqualmie - ECPv6.15.17.1//NONSGML v1.0//EN
CALSCALE:GREGORIAN
METHOD:PUBLISH
X-ORIGINAL-URL:https://livingsnoqualmie.com
X-WR-CALDESC:Events for Living Snoqualmie
REFRESH-INTERVAL;VALUE=DURATION:PT1H
X-Robots-Tag:noindex
X-PUBLISHED-TTL:PT1H
BEGIN:VTIMEZONE
TZID:America/Los_Angeles
BEGIN:DAYLIGHT
TZOFFSETFROM:-0800
TZOFFSETTO:-0700
TZNAME:PDT
DTSTART:20200308T100000
END:DAYLIGHT
BEGIN:STANDARD
TZOFFSETFROM:-0700
TZOFFSETTO:-0800
TZNAME:PST
DTSTART:20201101T090000
END:STANDARD
BEGIN:DAYLIGHT
TZOFFSETFROM:-0800
TZOFFSETTO:-0700
TZNAME:PDT
DTSTART:20210314T100000
END:DAYLIGHT
BEGIN:STANDARD
TZOFFSETFROM:-0700
TZOFFSETTO:-0800
TZNAME:PST
DTSTART:20211107T090000
END:STANDARD
BEGIN:DAYLIGHT
TZOFFSETFROM:-0800
TZOFFSETTO:-0700
TZNAME:PDT
DTSTART:20220313T100000
END:DAYLIGHT
BEGIN:STANDARD
TZOFFSETFROM:-0700
TZOFFSETTO:-0800
TZNAME:PST
DTSTART:20221106T090000
END:STANDARD
END:VTIMEZONE
BEGIN:VEVENT
DTSTART;VALUE=DATE:20211211
DTEND;VALUE=DATE:20211212
DTSTAMP:20260419T172451
CREATED:20211209T220319Z
LAST-MODIFIED:20211209T220319Z
UID:47341-1639180800-1639267199@livingsnoqualmie.com
SUMMARY:Santa Limited Holiday Train Ride
DESCRIPTION:Saturday\, Dec. 11\, 18\, 19 FROM THE NORTHWEST RAILWAY MUSEUM – Join Santa and his elves for the Santa Limited steam train. This 2-hour holiday excursion begins at the North Bend Depot. \nAfter boarding\, passengers ride to the Railway History Campus\, where Santa greets each child with a small gift inside the unique Chapel Car 5 Messenger of Peace located within the seasonally decorated Train Shed Exhibit Hall. Guests also receive a holiday cookie on this train excursion. Click here for more information.
URL:https://livingsnoqualmie.com/event/santa-limited-holiday-train-ride/
LOCATION:Northwest Railway Museum
END:VEVENT
BEGIN:VEVENT
DTSTART;TZID=America/Los_Angeles:20211211T090000
DTEND;TZID=America/Los_Angeles:20211211T120000
DTSTAMP:20260419T172451
CREATED:20211209T215712Z
LAST-MODIFIED:20211209T215712Z
UID:47337-1639213200-1639224000@livingsnoqualmie.com
SUMMARY:Holiday Craft Camp
DESCRIPTION:Saturday\, Dec. 11\, 9 – 12 PM FROM THE VILLAGE AT IGNITE – Spark some holiday cheer with The Village’s Holiday Craft Camp! \nKids get to come hang out with and craft to their hearts content while you run some last-minute holiday errands! Kids will enjoy several craft stations\, take a hot-cocoa break\, and have tons of holiday fun. Click here for more information.
URL:https://livingsnoqualmie.com/event/holiday-craft-camp/
LOCATION:Ignite Dance and Yoga\, 472 E North Bend Way\, North Bend\, 98045\, United States
END:VEVENT
BEGIN:VEVENT
DTSTART;TZID=America/Los_Angeles:20211211T100000
DTEND;TZID=America/Los_Angeles:20211211T150000
DTSTAMP:20260419T172451
CREATED:20211203T015136Z
LAST-MODIFIED:20211203T015136Z
UID:47311-1639216800-1639234800@livingsnoqualmie.com
SUMMARY:Pet Photos with Santa-Pet Place Market
DESCRIPTION:December 11-13th from 10 AM – 3 PM at Pet Place Market\, 213 Bendigo Blvd N. Ste 2 in North Bend. \nThey will be taking appointments for this event. Please call them at (425) 888-8828 to book your appointment. Walk-ins are welcome but appointments are guaranteed!
URL:https://livingsnoqualmie.com/event/pet-photos-with-santa-pet-place-market/
LOCATION:Pet Place Market\, 213 Bendigo Blvd N. Ste 2\, North Bend\, WA\, 98045\, United States
END:VEVENT
BEGIN:VEVENT
DTSTART;TZID=America/Los_Angeles:20211211T170000
DTEND;TZID=America/Los_Angeles:20211211T210000
DTSTAMP:20260419T172451
CREATED:20211209T215953Z
LAST-MODIFIED:20211209T215953Z
UID:47339-1639242000-1639256400@livingsnoqualmie.com
SUMMARY:Kids Night Out
DESCRIPTION:Saturday\, Dec. 11\, 5 – 9 PM FROM THE VILLAGE AT IGNITE – While the grown-ups enjoy live music at Ignition or just a kid-free evening\, kids will have their own fun “night out” with The Village at IGNITE! \nKids will do a craft project\, get their bodies moving\, eat some pizza\, and settle in for a movie. Experienced staff will ensure that kiddos feel safe and welcome. For more information\, click here.
URL:https://livingsnoqualmie.com/event/kids-night-out/
LOCATION:Ignite Dance and Yoga\, 472 E North Bend Way\, North Bend\, 98045\, United States
END:VEVENT
END:VCALENDAR