BEGIN:VCALENDAR
VERSION:2.0
PRODID:-//Living Snoqualmie - ECPv6.15.17.1//NONSGML v1.0//EN
CALSCALE:GREGORIAN
METHOD:PUBLISH
X-WR-CALNAME:Living Snoqualmie
X-ORIGINAL-URL:https://livingsnoqualmie.com
X-WR-CALDESC:Events for Living Snoqualmie
REFRESH-INTERVAL;VALUE=DURATION:PT1H
X-Robots-Tag:noindex
X-PUBLISHED-TTL:PT1H
BEGIN:VTIMEZONE
TZID:America/Los_Angeles
BEGIN:DAYLIGHT
TZOFFSETFROM:-0800
TZOFFSETTO:-0700
TZNAME:PDT
DTSTART:20200308T100000
END:DAYLIGHT
BEGIN:STANDARD
TZOFFSETFROM:-0700
TZOFFSETTO:-0800
TZNAME:PST
DTSTART:20201101T090000
END:STANDARD
BEGIN:DAYLIGHT
TZOFFSETFROM:-0800
TZOFFSETTO:-0700
TZNAME:PDT
DTSTART:20210314T100000
END:DAYLIGHT
BEGIN:STANDARD
TZOFFSETFROM:-0700
TZOFFSETTO:-0800
TZNAME:PST
DTSTART:20211107T090000
END:STANDARD
BEGIN:DAYLIGHT
TZOFFSETFROM:-0800
TZOFFSETTO:-0700
TZNAME:PDT
DTSTART:20220313T100000
END:DAYLIGHT
BEGIN:STANDARD
TZOFFSETFROM:-0700
TZOFFSETTO:-0800
TZNAME:PST
DTSTART:20221106T090000
END:STANDARD
END:VTIMEZONE
BEGIN:VEVENT
DTSTART;TZID=America/Los_Angeles:20211115T100000
DTEND;TZID=America/Los_Angeles:20211115T170000
DTSTAMP:20260419T190131
CREATED:20211109T231458Z
LAST-MODIFIED:20211109T231458Z
UID:47177-1636970400-1636995600@livingsnoqualmie.com
SUMMARY:Salish Sip-n-Shop Event
DESCRIPTION:Join us for some festive fun at The Country Store\nNovember 15\, 2021 | 10:00am – 5:00pm\nGet a jump on your holiday shopping and try a sample of Mt Si Coffee Roasters coffee\, Salish Spicy Hot Cocoa\, Hot Ruby Cider\, or Salish branded wines while you peruse the variety of all the fine items found at The Country Store. Exclusive to the Sip-n-Shop event\, enjoy special discounts* of $40 off your purchase of $100 or more or $100 off your purchase of $200 or more. \nTell us how you found out about this event (website\, social media\, etc.) and receive a free swag bag! You will also receive a bounce-back coupon** for 30% off your purchase* during your next visit to The Country Store. \nEnjoy samples of Salish Spicy Hot Cocoa or Hot Ruby Cider all day. Mt Si Coffee Roasters will be sampling our coffee blends from 10:00 am-2:00 pm and you can enjoy samples of our Salish branded wines from 1:00 pm – 5:00 pm. \nPlease note we are limiting capacity to 12 people at a time in the store.
URL:https://livingsnoqualmie.com/event/salish-sip-n-shop-event/
LOCATION:WA
END:VEVENT
END:VCALENDAR