BEGIN:VCALENDAR
VERSION:2.0
PRODID:-//Living Snoqualmie - ECPv6.15.17.1//NONSGML v1.0//EN
CALSCALE:GREGORIAN
METHOD:PUBLISH
X-WR-CALNAME:Living Snoqualmie
X-ORIGINAL-URL:https://livingsnoqualmie.com
X-WR-CALDESC:Events for Living Snoqualmie
REFRESH-INTERVAL;VALUE=DURATION:PT1H
X-Robots-Tag:noindex
X-PUBLISHED-TTL:PT1H
BEGIN:VTIMEZONE
TZID:America/Los_Angeles
BEGIN:DAYLIGHT
TZOFFSETFROM:-0800
TZOFFSETTO:-0700
TZNAME:PDT
DTSTART:20200308T100000
END:DAYLIGHT
BEGIN:STANDARD
TZOFFSETFROM:-0700
TZOFFSETTO:-0800
TZNAME:PST
DTSTART:20201101T090000
END:STANDARD
BEGIN:DAYLIGHT
TZOFFSETFROM:-0800
TZOFFSETTO:-0700
TZNAME:PDT
DTSTART:20210314T100000
END:DAYLIGHT
BEGIN:STANDARD
TZOFFSETFROM:-0700
TZOFFSETTO:-0800
TZNAME:PST
DTSTART:20211107T090000
END:STANDARD
BEGIN:DAYLIGHT
TZOFFSETFROM:-0800
TZOFFSETTO:-0700
TZNAME:PDT
DTSTART:20220313T100000
END:DAYLIGHT
BEGIN:STANDARD
TZOFFSETFROM:-0700
TZOFFSETTO:-0800
TZNAME:PST
DTSTART:20221106T090000
END:STANDARD
END:VTIMEZONE
BEGIN:VEVENT
DTSTART;TZID=America/Los_Angeles:20211024T100000
DTEND;TZID=America/Los_Angeles:20211024T120000
DTSTAMP:20260419T140506
CREATED:20211012T193652Z
LAST-MODIFIED:20211012T193652Z
UID:46950-1635069600-1635076800@livingsnoqualmie.com
SUMMARY:Valley Animal Partners Vaccine Clinic
DESCRIPTION:Free dog & cat vaccinations (distemper & rabies) for Snoqualmie Valley residents who could not otherwise afford them. \n\nNo appointment needed\n$5 microchips\nNew clients\, please bring available vet records\nPlease leash dogs and bring cats in a carrier (if possible) and muzzle aggressive dogs\nFree pet food samples\nQuestions look for Valley Animal Partners on Facebook or visit http://valleyanimalpartners.com/
URL:https://livingsnoqualmie.com/event/valley-animal-partners-vaccine-clinic/
LOCATION:Si View Park\, 400 SE Orchard Drive\, North Bend\, 98045\, United States
END:VEVENT
END:VCALENDAR