BEGIN:VCALENDAR
VERSION:2.0
PRODID:-//Living Snoqualmie - ECPv6.15.17.1//NONSGML v1.0//EN
CALSCALE:GREGORIAN
METHOD:PUBLISH
X-ORIGINAL-URL:https://livingsnoqualmie.com
X-WR-CALDESC:Events for Living Snoqualmie
REFRESH-INTERVAL;VALUE=DURATION:PT1H
X-Robots-Tag:noindex
X-PUBLISHED-TTL:PT1H
BEGIN:VTIMEZONE
TZID:America/Los_Angeles
BEGIN:DAYLIGHT
TZOFFSETFROM:-0800
TZOFFSETTO:-0700
TZNAME:PDT
DTSTART:20200308T100000
END:DAYLIGHT
BEGIN:STANDARD
TZOFFSETFROM:-0700
TZOFFSETTO:-0800
TZNAME:PST
DTSTART:20201101T090000
END:STANDARD
BEGIN:DAYLIGHT
TZOFFSETFROM:-0800
TZOFFSETTO:-0700
TZNAME:PDT
DTSTART:20210314T100000
END:DAYLIGHT
BEGIN:STANDARD
TZOFFSETFROM:-0700
TZOFFSETTO:-0800
TZNAME:PST
DTSTART:20211107T090000
END:STANDARD
BEGIN:DAYLIGHT
TZOFFSETFROM:-0800
TZOFFSETTO:-0700
TZNAME:PDT
DTSTART:20220313T100000
END:DAYLIGHT
BEGIN:STANDARD
TZOFFSETFROM:-0700
TZOFFSETTO:-0800
TZNAME:PST
DTSTART:20221106T090000
END:STANDARD
END:VTIMEZONE
BEGIN:VEVENT
DTSTART;TZID=America/Los_Angeles:20210930T160000
DTEND;TZID=America/Los_Angeles:20210930T170000
DTSTAMP:20260419T172555
CREATED:20210920T161824Z
LAST-MODIFIED:20210920T161824Z
UID:46781-1633017600-1633021200@livingsnoqualmie.com
SUMMARY:Dog Behavior Workshop
DESCRIPTION:Are you looking for some behavioral help or training tips for your dog? Join us for a free workshop on Thursday\, September 30th at 4 pm at Torguson Park in North Bend. Please RSVP to alogan7980@gmail.com or 425-466-4621.  Join trainer\, Amanda Lund\, to discuss problem-solving\, behavioral tips and canine enrichment and nutrition.
URL:https://livingsnoqualmie.com/event/dog-behavior-workshop-2/
LOCATION:Torguson Park\, 750 E North Bend Way\, North Bend\, WA\, 98045\, United States
END:VEVENT
END:VCALENDAR