BEGIN:VCALENDAR
VERSION:2.0
PRODID:-//Living Snoqualmie - ECPv6.15.17.1//NONSGML v1.0//EN
CALSCALE:GREGORIAN
METHOD:PUBLISH
X-ORIGINAL-URL:https://livingsnoqualmie.com
X-WR-CALDESC:Events for Living Snoqualmie
REFRESH-INTERVAL;VALUE=DURATION:PT1H
X-Robots-Tag:noindex
X-PUBLISHED-TTL:PT1H
BEGIN:VTIMEZONE
TZID:America/Los_Angeles
BEGIN:DAYLIGHT
TZOFFSETFROM:-0800
TZOFFSETTO:-0700
TZNAME:PDT
DTSTART:20200308T100000
END:DAYLIGHT
BEGIN:STANDARD
TZOFFSETFROM:-0700
TZOFFSETTO:-0800
TZNAME:PST
DTSTART:20201101T090000
END:STANDARD
BEGIN:DAYLIGHT
TZOFFSETFROM:-0800
TZOFFSETTO:-0700
TZNAME:PDT
DTSTART:20210314T100000
END:DAYLIGHT
BEGIN:STANDARD
TZOFFSETFROM:-0700
TZOFFSETTO:-0800
TZNAME:PST
DTSTART:20211107T090000
END:STANDARD
BEGIN:DAYLIGHT
TZOFFSETFROM:-0800
TZOFFSETTO:-0700
TZNAME:PDT
DTSTART:20220313T100000
END:DAYLIGHT
BEGIN:STANDARD
TZOFFSETFROM:-0700
TZOFFSETTO:-0800
TZNAME:PST
DTSTART:20221106T090000
END:STANDARD
END:VTIMEZONE
BEGIN:VEVENT
DTSTART;TZID=America/Los_Angeles:20210721T130000
DTEND;TZID=America/Los_Angeles:20210721T150000
DTSTAMP:20260419T140534
CREATED:20210717T023944Z
LAST-MODIFIED:20210727T192635Z
UID:46312-1626872400-1626879600@livingsnoqualmie.com
SUMMARY:Persona Nutrition Hiring Event
DESCRIPTION:Persona Nutrition Hiring Event Wednesday\, 08/04 from 1 pm-3 pm PST for our Pick\, Pack\, and Ship Team Member – $1\,000 Sign-On Bonus!\nPersona\, a Nestle Health Science Company\, is a rapidly growing\, subscription-based personalized supplement company located at 35131 SE Douglas St Snoqualmie Ridge\, WA. Must be 18+ to apply \n\nInspect and quality check a customer’s order to ensure proper dispense\nPick a customer’s order and verify all required paperwork is present\nOperate packaging equipment correctly\, making sure each order is properly secured\nUtilize our shipping software to scan and label each order accurately\nBuild dispenser and shipping boxes\nWork with the Lead or Supervisor to help monitor\, stock and track packaging materials\n\n100% off all vitamins for Persona employees plus an excellent total compensation package!
URL:https://livingsnoqualmie.com/event/persona-nutrition-hiring-event/
LOCATION:Persona\, 35131 SE Douglas St\, Snoqualmie\, WA\, 98065\, United States
END:VEVENT
END:VCALENDAR