BEGIN:VCALENDAR
VERSION:2.0
PRODID:-//Living Snoqualmie - ECPv6.15.17.1//NONSGML v1.0//EN
CALSCALE:GREGORIAN
METHOD:PUBLISH
X-WR-CALNAME:Living Snoqualmie
X-ORIGINAL-URL:https://livingsnoqualmie.com
X-WR-CALDESC:Events for Living Snoqualmie
REFRESH-INTERVAL;VALUE=DURATION:PT1H
X-Robots-Tag:noindex
X-PUBLISHED-TTL:PT1H
BEGIN:VTIMEZONE
TZID:America/Los_Angeles
BEGIN:DAYLIGHT
TZOFFSETFROM:-0800
TZOFFSETTO:-0700
TZNAME:PDT
DTSTART:20200308T100000
END:DAYLIGHT
BEGIN:STANDARD
TZOFFSETFROM:-0700
TZOFFSETTO:-0800
TZNAME:PST
DTSTART:20201101T090000
END:STANDARD
BEGIN:DAYLIGHT
TZOFFSETFROM:-0800
TZOFFSETTO:-0700
TZNAME:PDT
DTSTART:20210314T100000
END:DAYLIGHT
BEGIN:STANDARD
TZOFFSETFROM:-0700
TZOFFSETTO:-0800
TZNAME:PST
DTSTART:20211107T090000
END:STANDARD
BEGIN:DAYLIGHT
TZOFFSETFROM:-0800
TZOFFSETTO:-0700
TZNAME:PDT
DTSTART:20220313T100000
END:DAYLIGHT
BEGIN:STANDARD
TZOFFSETFROM:-0700
TZOFFSETTO:-0800
TZNAME:PST
DTSTART:20221106T090000
END:STANDARD
END:VTIMEZONE
BEGIN:VEVENT
DTSTART;TZID=America/Los_Angeles:20210712T090000
DTEND;TZID=America/Los_Angeles:20210718T163000
DTSTAMP:20260419T140506
CREATED:20210630T194534Z
LAST-MODIFIED:20210630T194534Z
UID:46183-1626080400-1626625800@livingsnoqualmie.com
SUMMARY:Robotics Summer Camp
DESCRIPTION:Robotics summer camp coming up from July 12-18 at the North Bend train depot. \nhttps://robotu.com/events/jr-robotics-steam-workshop-2-2-677-397-222/?occurrence=2021-07-12 \nHere is a chance for your young robotic engineer to build working robots with their favorite toy\,…LEGOs! \nCampers of all elementary school ages will have a ball when they choose partners and build incredible LEGO robots all week long. \nWith the help of numerous instructors\, campers choose what robots to build from a huge selection of plans and different sets for all skill levels. They can level up\, level down\, whatever they feel comfortable with. They are free to build as many different robots as time allows and if they wish\, they may design and program their own creations with the help of our knowledgeable instructors. \nSign up for all day and experience a variety of STEM activities that include Minecraft\, Sphero (an amazing programable kaleidoscopic ball of fun)\, and more. \n$250 for a morning half-day of  Lego Robotics. An additional $100 ($350 total) for full-day STEM till 4 pm \n 
URL:https://livingsnoqualmie.com/event/robotics-summer-camp/
LOCATION:North Bend Train Depot\, 205 E McClellan St\, North Bend\, WA\, 98045\, United States
END:VEVENT
BEGIN:VEVENT
DTSTART;VALUE=DATE:20210715
DTEND;VALUE=DATE:20210719
DTSTAMP:20260419T140506
CREATED:20210618T021238Z
LAST-MODIFIED:20210618T021238Z
UID:46073-1626307200-1626652799@livingsnoqualmie.com
SUMMARY:The North Bend Film Festival
DESCRIPTION:The North Bend Film Festival is emerging from the fog with a hybrid 2021 festival taking place July 15-18\, 2021. The in-person portion of the fest returns audience members to the historic art deco North Bend Theatre for a limited amount of feature film and short screenings to complement a robust virtual lineup of screenings\, talkbacks\, and immersive experiences. The majority of film selections will be exclusive to physical or virtual with only a few overlaps making for a unique festival experience however you choose to attend. \nNew to the festival is the Dulac Vanguard Filmmaker Award meant to honor an extraordinary achievement in groundbreaking filmmaking with a director’s first or sophomore film. This year’s recipient is Jane Schoenbrun for their debut film “We’re All Going to the World’s Fair\,” a beautifully haunting work that captures with surreal relevance the dual sadness and hope of life lived through a screen.\nContinuing the festival’s mission to present groundbreaking immersive events\, this year will feature a tongue-in-cheek pregnancy mystery party with I Swing\, You Swing\, a self-led storytelling experience that will take place across North Bend with Marcia Needs Space and the in-person return of fest favorite Strange Storytelling Hour\, which will be recorded in front of a live audience and offered online for virtual viewing after. \nNorth Bend Film Fest virtual programming is geo-restricted to the Pacific Northwest (Washington\, Oregon\, and Idaho) with two types of festival passes currently on sale: a 10 feature or shorts program package for $95 and a 12 feature or shorts program package for Industry Members also priced at $95. All event programming will be free to pass holders. Individual ticket options also include a $3 discount for locals attending in-person screenings. \nTo buy a pass\, visit bit.ly/nbffpass\, or view our complete lineup here bit.ly/nbfffilmguide! \nAll in-person screenings will be held in strict accordance with state and federal guidelines regarding safety through the ongoing COVID pandemic. \n  \n[videopack id=”46076″]https://livingsnoqualmie.com/wp-content/uploads/2021/06/NORTH-BEND-FILM-FEST-2021-Bumper.mp4[/videopack] \n 
URL:https://livingsnoqualmie.com/event/the-north-bend-film-festival/
LOCATION:North Bend Theatre\, 125 Bendigo Blvd N\, North Bend\, WA\, 98045\, United States
END:VEVENT
END:VCALENDAR