BEGIN:VCALENDAR
VERSION:2.0
PRODID:-//Living Snoqualmie - ECPv6.15.17.1//NONSGML v1.0//EN
CALSCALE:GREGORIAN
METHOD:PUBLISH
X-ORIGINAL-URL:https://livingsnoqualmie.com
X-WR-CALDESC:Events for Living Snoqualmie
REFRESH-INTERVAL;VALUE=DURATION:PT1H
X-Robots-Tag:noindex
X-PUBLISHED-TTL:PT1H
BEGIN:VTIMEZONE
TZID:America/Los_Angeles
BEGIN:DAYLIGHT
TZOFFSETFROM:-0800
TZOFFSETTO:-0700
TZNAME:PDT
DTSTART:20200308T100000
END:DAYLIGHT
BEGIN:STANDARD
TZOFFSETFROM:-0700
TZOFFSETTO:-0800
TZNAME:PST
DTSTART:20201101T090000
END:STANDARD
BEGIN:DAYLIGHT
TZOFFSETFROM:-0800
TZOFFSETTO:-0700
TZNAME:PDT
DTSTART:20210314T100000
END:DAYLIGHT
BEGIN:STANDARD
TZOFFSETFROM:-0700
TZOFFSETTO:-0800
TZNAME:PST
DTSTART:20211107T090000
END:STANDARD
BEGIN:DAYLIGHT
TZOFFSETFROM:-0800
TZOFFSETTO:-0700
TZNAME:PDT
DTSTART:20220313T100000
END:DAYLIGHT
BEGIN:STANDARD
TZOFFSETFROM:-0700
TZOFFSETTO:-0800
TZNAME:PST
DTSTART:20221106T090000
END:STANDARD
END:VTIMEZONE
BEGIN:VEVENT
DTSTART;TZID=America/Los_Angeles:20210605T090000
DTEND;TZID=America/Los_Angeles:20210605T150000
DTSTAMP:20260419T140528
CREATED:20210518T021547Z
LAST-MODIFIED:20210518T021547Z
UID:45804-1622883600-1622905200@livingsnoqualmie.com
SUMMARY:Si View Neighborhood Garage Sale
DESCRIPTION:Mark your calendars! Community-wide garage sale in Si View Neighborhood in North Bend will take place Saturday\, June 5th 9am – 3pm! 200+ home neighborhood. Garage Sale happens only once a year\, all residents are invited to participate! Cross streets are SE Cedar Falls Way & Mountain View Blvd SE.
URL:https://livingsnoqualmie.com/event/si-view-neighborhood-garage-sale/
LOCATION:Si View Neighborhood\, PO BOX 2193\, North Bend\, WA\, 98045\, United States
END:VEVENT
END:VCALENDAR