BEGIN:VCALENDAR
VERSION:2.0
PRODID:-//Living Snoqualmie - ECPv6.15.17.1//NONSGML v1.0//EN
CALSCALE:GREGORIAN
METHOD:PUBLISH
X-ORIGINAL-URL:https://livingsnoqualmie.com
X-WR-CALDESC:Events for Living Snoqualmie
REFRESH-INTERVAL;VALUE=DURATION:PT1H
X-Robots-Tag:noindex
X-PUBLISHED-TTL:PT1H
BEGIN:VTIMEZONE
TZID:America/Los_Angeles
BEGIN:DAYLIGHT
TZOFFSETFROM:-0800
TZOFFSETTO:-0700
TZNAME:PDT
DTSTART:20200308T100000
END:DAYLIGHT
BEGIN:STANDARD
TZOFFSETFROM:-0700
TZOFFSETTO:-0800
TZNAME:PST
DTSTART:20201101T090000
END:STANDARD
BEGIN:DAYLIGHT
TZOFFSETFROM:-0800
TZOFFSETTO:-0700
TZNAME:PDT
DTSTART:20210314T100000
END:DAYLIGHT
BEGIN:STANDARD
TZOFFSETFROM:-0700
TZOFFSETTO:-0800
TZNAME:PST
DTSTART:20211107T090000
END:STANDARD
BEGIN:DAYLIGHT
TZOFFSETFROM:-0800
TZOFFSETTO:-0700
TZNAME:PDT
DTSTART:20220313T100000
END:DAYLIGHT
BEGIN:STANDARD
TZOFFSETFROM:-0700
TZOFFSETTO:-0800
TZNAME:PST
DTSTART:20221106T090000
END:STANDARD
END:VTIMEZONE
BEGIN:VEVENT
DTSTART;TZID=America/Los_Angeles:20210518T170000
DTEND;TZID=America/Los_Angeles:20210518T183000
DTSTAMP:20260419T172458
CREATED:20210518T053015Z
LAST-MODIFIED:20210518T053015Z
UID:45816-1621357200-1621362600@livingsnoqualmie.com
SUMMARY:City of Snoqualmie Parks and Public Works Council Committee and Council Committee of the Whole Meeting
DESCRIPTION:Via ZOOM and Dial-In Hyperlink https://us02web.zoom.us/j/86785543964?pwd=WXNNNGU5N09EWmNMVllXNkFzQmdrUT09 Meeting ID: 867 8554 3964 Passcode: 1700050121 Via Dial-In: • Dial: 1-253-215-8782 • Meeting ID: 867 8554 3964 • Telephone meeting part
URL:https://livingsnoqualmie.com/event/city-of-snoqualmie-parks-and-public-works-council-committee-and-council-committee-of-the-whole-meeting-2/
LOCATION:Virtual
END:VEVENT
BEGIN:VEVENT
DTSTART;TZID=America/Los_Angeles:20210518T183000
DTEND;TZID=America/Los_Angeles:20210518T200000
DTSTAMP:20260419T172458
CREATED:20210518T052815Z
LAST-MODIFIED:20210518T052815Z
UID:45815-1621362600-1621368000@livingsnoqualmie.com
SUMMARY:City of Snoqualmie Finance & Administration Committee Meeting
DESCRIPTION:Via Zoom: https://us02web.zoom.us/j/88018970598?pwd=aDk4cEFhZTJVR29kTjg3R1pXN0ZQQT09 Webinar ID: 880 1897 0598 Passcode: 1830050121 Via Dial-In: Call 1-253-215-8782 Webinar ID: 880 1897 0598 Passcode: 1830050121 Telephone meeting participation instructions: • Press *9 to raise your hand to speak. Raising your hand signals the meeting moderator that you have a comment. • Press *6 to mute and unmute.
URL:https://livingsnoqualmie.com/event/city-of-snoqualmie-finance-administration-committee-meeting-3/
LOCATION:Virtual
END:VEVENT
BEGIN:VEVENT
DTSTART;TZID=America/Los_Angeles:20210518T190000
DTEND;TZID=America/Los_Angeles:20210518T210000
DTSTAMP:20260419T172458
CREATED:20210518T044605Z
LAST-MODIFIED:20210518T044605Z
UID:45808-1621364400-1621371600@livingsnoqualmie.com
SUMMARY:North Bend City Council Meeting
DESCRIPTION:Public-Comment-Instructions—City-of-North-Bend-City-Council-Virtual-Meeting—May-18-2021 (northbendwa.gov)
URL:https://livingsnoqualmie.com/event/north-bend-city-council-meeting-4/
LOCATION:Virtual
END:VEVENT
END:VCALENDAR