BEGIN:VCALENDAR
VERSION:2.0
PRODID:-//Living Snoqualmie - ECPv6.15.17.1//NONSGML v1.0//EN
CALSCALE:GREGORIAN
METHOD:PUBLISH
X-ORIGINAL-URL:https://livingsnoqualmie.com
X-WR-CALDESC:Events for Living Snoqualmie
REFRESH-INTERVAL;VALUE=DURATION:PT1H
X-Robots-Tag:noindex
X-PUBLISHED-TTL:PT1H
BEGIN:VTIMEZONE
TZID:America/Los_Angeles
BEGIN:DAYLIGHT
TZOFFSETFROM:-0800
TZOFFSETTO:-0700
TZNAME:PDT
DTSTART:20200308T100000
END:DAYLIGHT
BEGIN:STANDARD
TZOFFSETFROM:-0700
TZOFFSETTO:-0800
TZNAME:PST
DTSTART:20201101T090000
END:STANDARD
BEGIN:DAYLIGHT
TZOFFSETFROM:-0800
TZOFFSETTO:-0700
TZNAME:PDT
DTSTART:20210314T100000
END:DAYLIGHT
BEGIN:STANDARD
TZOFFSETFROM:-0700
TZOFFSETTO:-0800
TZNAME:PST
DTSTART:20211107T090000
END:STANDARD
BEGIN:DAYLIGHT
TZOFFSETFROM:-0800
TZOFFSETTO:-0700
TZNAME:PDT
DTSTART:20220313T100000
END:DAYLIGHT
BEGIN:STANDARD
TZOFFSETFROM:-0700
TZOFFSETTO:-0800
TZNAME:PST
DTSTART:20221106T090000
END:STANDARD
END:VTIMEZONE
BEGIN:VEVENT
DTSTART;TZID=America/Los_Angeles:20210503T170000
DTEND;TZID=America/Los_Angeles:20210503T180000
DTSTAMP:20260419T172454
CREATED:20210501T181417Z
LAST-MODIFIED:20210501T181417Z
UID:45700-1620061200-1620064800@livingsnoqualmie.com
SUMMARY:City of Snoqualmie Public Safety Committee Meeting
DESCRIPTION:https://www.ci.snoqualmie.wa.us/Calendar.aspx?EID=1620&month=5&year=2021&day=3&calType=0
URL:https://livingsnoqualmie.com/event/city-of-snoqualmie-public-safety-committee-meeting-2/
LOCATION:Virtual
END:VEVENT
BEGIN:VEVENT
DTSTART;TZID=America/Los_Angeles:20210503T173000
DTEND;TZID=America/Los_Angeles:20210503T190000
DTSTAMP:20260419T172454
CREATED:20210501T180945Z
LAST-MODIFIED:20210501T180945Z
UID:45698-1620063000-1620068400@livingsnoqualmie.com
SUMMARY:City of Snoqualmie Community Development Committee Meeting
DESCRIPTION:https://www.ci.snoqualmie.wa.us/Calendar.aspx?EID=1499&month=5&year=2021&day=3&calType=0
URL:https://livingsnoqualmie.com/event/city-snoqualmie-community-development-committee-meeting/
LOCATION:Virtual
END:VEVENT
BEGIN:VEVENT
DTSTART;TZID=America/Los_Angeles:20210503T190000
DTEND;TZID=America/Los_Angeles:20210503T210000
DTSTAMP:20260419T172454
CREATED:20210501T181138Z
LAST-MODIFIED:20210501T181138Z
UID:45699-1620068400-1620075600@livingsnoqualmie.com
SUMMARY:City of Snoqualmie Planning Commission Meeting
DESCRIPTION:https://www.ci.snoqualmie.wa.us/Calendar.aspx?EID=1511&month=5&year=2021&day=3&calType=0
URL:https://livingsnoqualmie.com/event/city-of-snoqualmie-planning-commission-meeting-2/
LOCATION:Virtual
END:VEVENT
END:VCALENDAR