BEGIN:VCALENDAR
VERSION:2.0
PRODID:-//Living Snoqualmie - ECPv6.15.17.1//NONSGML v1.0//EN
CALSCALE:GREGORIAN
METHOD:PUBLISH
X-WR-CALNAME:Living Snoqualmie
X-ORIGINAL-URL:https://livingsnoqualmie.com
X-WR-CALDESC:Events for Living Snoqualmie
REFRESH-INTERVAL;VALUE=DURATION:PT1H
X-Robots-Tag:noindex
X-PUBLISHED-TTL:PT1H
BEGIN:VTIMEZONE
TZID:America/Los_Angeles
BEGIN:DAYLIGHT
TZOFFSETFROM:-0800
TZOFFSETTO:-0700
TZNAME:PDT
DTSTART:20200308T100000
END:DAYLIGHT
BEGIN:STANDARD
TZOFFSETFROM:-0700
TZOFFSETTO:-0800
TZNAME:PST
DTSTART:20201101T090000
END:STANDARD
BEGIN:DAYLIGHT
TZOFFSETFROM:-0800
TZOFFSETTO:-0700
TZNAME:PDT
DTSTART:20210314T100000
END:DAYLIGHT
BEGIN:STANDARD
TZOFFSETFROM:-0700
TZOFFSETTO:-0800
TZNAME:PST
DTSTART:20211107T090000
END:STANDARD
BEGIN:DAYLIGHT
TZOFFSETFROM:-0800
TZOFFSETTO:-0700
TZNAME:PDT
DTSTART:20220313T100000
END:DAYLIGHT
BEGIN:STANDARD
TZOFFSETFROM:-0700
TZOFFSETTO:-0800
TZNAME:PST
DTSTART:20221106T090000
END:STANDARD
END:VTIMEZONE
BEGIN:VEVENT
DTSTART;TZID=America/Los_Angeles:20210408T183000
DTEND;TZID=America/Los_Angeles:20210408T203000
DTSTAMP:20260419T172008
CREATED:20210325T021507Z
LAST-MODIFIED:20210325T021507Z
UID:45447-1617906600-1617913800@livingsnoqualmie.com
SUMMARY:Snoqualmie Valley Hospital Board of Commissioners Meeting
DESCRIPTION:The Regular Meetings of the Board of Commissioners are held monthly on the second Thursday of each month at 6:30 p.m. For additional information about meetings please call Sandra Stanger at 425-831-2362 or email sandras@snoqualmiehospital.org.
URL:https://livingsnoqualmie.com/event/snoqualmie-valley-hospital-board-of-commissioners-meeting/
LOCATION:Virtual
END:VEVENT
BEGIN:VEVENT
DTSTART;TZID=America/Los_Angeles:20210408T190000
DTEND;TZID=America/Los_Angeles:20210408T210000
DTSTAMP:20260419T172008
CREATED:20210402T224156Z
LAST-MODIFIED:20210402T224156Z
UID:45503-1617908400-1617915600@livingsnoqualmie.com
SUMMARY:City of North Bend Planning Commission
DESCRIPTION:The meeting is an online meeting via Microsoft Teams. Click the following link to join\nthe meeting\, or dial in via telephone via the number below:\nMicrosoft Teams meeting\nJoin on your computer or mobile app\nClick here to join the meeting\nOr call in (audio only)\n+1 323-484-5815\,\,763320203# United States\, Los Angeles\nPhone Conference ID: 763 320 203#
URL:https://livingsnoqualmie.com/event/city-of-north-bend-planning-commission/
LOCATION:Virtual
END:VEVENT
END:VCALENDAR