BEGIN:VCALENDAR
VERSION:2.0
PRODID:-//Living Snoqualmie - ECPv6.15.17.1//NONSGML v1.0//EN
CALSCALE:GREGORIAN
METHOD:PUBLISH
X-ORIGINAL-URL:https://livingsnoqualmie.com
X-WR-CALDESC:Events for Living Snoqualmie
REFRESH-INTERVAL;VALUE=DURATION:PT1H
X-Robots-Tag:noindex
X-PUBLISHED-TTL:PT1H
BEGIN:VTIMEZONE
TZID:America/Los_Angeles
BEGIN:DAYLIGHT
TZOFFSETFROM:-0800
TZOFFSETTO:-0700
TZNAME:PDT
DTSTART:20200308T100000
END:DAYLIGHT
BEGIN:STANDARD
TZOFFSETFROM:-0700
TZOFFSETTO:-0800
TZNAME:PST
DTSTART:20201101T090000
END:STANDARD
BEGIN:DAYLIGHT
TZOFFSETFROM:-0800
TZOFFSETTO:-0700
TZNAME:PDT
DTSTART:20210314T100000
END:DAYLIGHT
BEGIN:STANDARD
TZOFFSETFROM:-0700
TZOFFSETTO:-0800
TZNAME:PST
DTSTART:20211107T090000
END:STANDARD
BEGIN:DAYLIGHT
TZOFFSETFROM:-0800
TZOFFSETTO:-0700
TZNAME:PDT
DTSTART:20220313T100000
END:DAYLIGHT
BEGIN:STANDARD
TZOFFSETFROM:-0700
TZOFFSETTO:-0800
TZNAME:PST
DTSTART:20221106T090000
END:STANDARD
END:VTIMEZONE
BEGIN:VEVENT
DTSTART;TZID=America/Los_Angeles:20210405T164500
DTEND;TZID=America/Los_Angeles:20210405T183000
DTSTAMP:20260419T172407
CREATED:20210402T230123Z
LAST-MODIFIED:20210402T230123Z
UID:45508-1617641100-1617647400@livingsnoqualmie.com
SUMMARY:MEETING OF THE LOCAL BOARD OF VOLUNTEER FIREFIGHTERS
DESCRIPTION:April 5\, 2021     4:45 PM \nCity Hall – VIRTUAL \n38624 SE River Street\, Snoqualmie\, WA \nBoard of Volunteer Firefighters’ Trustee Board Members include: \nMayor Larson (Chair)\, Councilmember Bob Jeans (Chair of the Public Safety Council Committee)\, Jodi Warren\, City Clerk (Secretary)\, Mark Correira (Fire Chief) and Volunteer Firefighter Sara York. \nPlease Note:    The meeting is open to public attendance via telephonic and other electronic means. \n\nPer the Governor’s Proclamation 20-28\, the City Council is prohibited from conducting any meeting\, subject to RCW 42.30 unless (a) the meeting is not conducted in-person and instead provides an option(s) for the public to attend the proceedings through\, at minimum\, telephonic access\, and may also include other electronic\, internet or other means of remote access. . .” \n\nOptions for public telephonic and electronic attendance are as follows: \n\nThe above options are provided to ensure the safety of City staff and members of the community\, as we continue with social distancing and compliance with Governor Inslee’s “Stay Home — Stay Healthy” order in Proclamation 20-25. \n  \nTopic: Snoqualmie Board of Volunteer Firefighters \nTime: April 5\, 2021   4:45 PM Pacific Time (US and Canada) \n\nJoin Zoom Meeting \nhttps://us02web.zoom.us/j/86779245045?pwd=RjRVVVluemdOTzB6WUJmRXlRMS9UQT09 \nMeeting ID: 867 7924 5045 \nPasscode: 044467 \n\nAgenda \n\nUpdate on the Board of Volunteer Firefighters Pension Enrollment\nApproval of October 20\, 2020 minutes (Exhibit A)\nApproval of the 2020 Annual Report (Exhibit B)\nApproval of the updated 2021 Roster (Exhibit C)\n\n  \nWhile this is an open public meeting\, there will be no opportunity for citizen comments or participation
URL:https://livingsnoqualmie.com/event/meeting-of-the-local-board-of-volunteer-firefighters/
LOCATION:Virtual
END:VEVENT
BEGIN:VEVENT
DTSTART;TZID=America/Los_Angeles:20210405T170000
DTEND;TZID=America/Los_Angeles:20210405T180000
DTSTAMP:20260419T172407
CREATED:20210402T225746Z
LAST-MODIFIED:20210402T225746Z
UID:45507-1617642000-1617645600@livingsnoqualmie.com
SUMMARY:City of Snoqualmie Public Safety Committee Meeting
DESCRIPTION:Via Zoom: Register in advance for this webinar: https://us02web.zoom.us/j/83645772692?pwd=aGY4eGpJZ3RqdHdONlRCcGg3MU55UT09 Webinar ID: 836 4577 2692 Passcode: 1700040121 Via Phone Dial: 1-253-215-8782 Enter the Meeting ID: 836 4577 2692 and press # Password: 1700040121 and press # If prompted to enter the host key\, press # to wait for the meeting to start. • If prompted to enter a unique ID\, press # to skip. • Press *9 to raise your hand to speak. Raising your hand signals the meeting moderator that you have a comment. • Press *6 to mute and unmute
URL:https://livingsnoqualmie.com/event/city-of-snoqualmie-public-safety-committee-meeting/
LOCATION:Virtual
END:VEVENT
BEGIN:VEVENT
DTSTART;TZID=America/Los_Angeles:20210405T173000
DTEND;TZID=America/Los_Angeles:20210405T190000
DTSTAMP:20260419T172407
CREATED:20210402T231003Z
LAST-MODIFIED:20210402T231003Z
UID:45510-1617643800-1617649200@livingsnoqualmie.com
SUMMARY:City of Snoqualmie Community Development Committee Meeting
DESCRIPTION:Snoqualmie\,https://www.ci.snoqualmie.wa.us/Calendar.aspx?EID=1498&month=4&year=2021&day=5&calType=0 WA
URL:https://livingsnoqualmie.com/event/city-of-snoqualmie-community-development-committee-meeting/
LOCATION:Virtual
END:VEVENT
BEGIN:VEVENT
DTSTART;TZID=America/Los_Angeles:20210405T190000
DTEND;TZID=America/Los_Angeles:20210405T210000
DTSTAMP:20260419T172407
CREATED:20210402T230452Z
LAST-MODIFIED:20210402T230452Z
UID:45509-1617649200-1617656400@livingsnoqualmie.com
SUMMARY:City of Snoqualmie Planning Commission Meeting
DESCRIPTION:Please click the link below to join the webinar: https://us02web.zoom.us/j/86487502701?pwd=QUx6N2FJR05jeUI1V2hPVUJXdjlzQT09 Webinar ID: 864 8750 2701 Passcode: 1900070121 Or iPhone one-tap : US: +12532158782\,\,86487502701#\,\,\,\,\,\,0#\,\,1900070121# or +16699009128\,\,86487502701#\,\,\,\,\,\,0#\,\,1900070121# Or Telephone: Dial(for higher quality\, dial a number based on your current location): US: +1 253 215 8782 or +1 669 900 9128 or +1 346 248 7799 or +1 301 715 8592 or +1 312 626 6799 or +1 646 558 8656 Webinar ID: 864 8750 2701 Passcode: 1900070121
URL:https://livingsnoqualmie.com/event/city-of-snoqualmie-planning-commission-meeting/
LOCATION:Virtual
END:VEVENT
END:VCALENDAR