BEGIN:VCALENDAR
VERSION:2.0
PRODID:-//Living Snoqualmie - ECPv6.15.17.1//NONSGML v1.0//EN
CALSCALE:GREGORIAN
METHOD:PUBLISH
X-WR-CALNAME:Living Snoqualmie
X-ORIGINAL-URL:https://livingsnoqualmie.com
X-WR-CALDESC:Events for Living Snoqualmie
REFRESH-INTERVAL;VALUE=DURATION:PT1H
X-Robots-Tag:noindex
X-PUBLISHED-TTL:PT1H
BEGIN:VTIMEZONE
TZID:America/Los_Angeles
BEGIN:DAYLIGHT
TZOFFSETFROM:-0800
TZOFFSETTO:-0700
TZNAME:PDT
DTSTART:20200308T100000
END:DAYLIGHT
BEGIN:STANDARD
TZOFFSETFROM:-0700
TZOFFSETTO:-0800
TZNAME:PST
DTSTART:20201101T090000
END:STANDARD
BEGIN:DAYLIGHT
TZOFFSETFROM:-0800
TZOFFSETTO:-0700
TZNAME:PDT
DTSTART:20210314T100000
END:DAYLIGHT
BEGIN:STANDARD
TZOFFSETFROM:-0700
TZOFFSETTO:-0800
TZNAME:PST
DTSTART:20211107T090000
END:STANDARD
BEGIN:DAYLIGHT
TZOFFSETFROM:-0800
TZOFFSETTO:-0700
TZNAME:PDT
DTSTART:20220313T100000
END:DAYLIGHT
BEGIN:STANDARD
TZOFFSETFROM:-0700
TZOFFSETTO:-0800
TZNAME:PST
DTSTART:20221106T090000
END:STANDARD
END:VTIMEZONE
BEGIN:VEVENT
DTSTART;VALUE=DATE:20210404
DTEND;VALUE=DATE:20210405
DTSTAMP:20260419T172318
CREATED:20210324T202647Z
LAST-MODIFIED:20210324T204231Z
UID:45428-1617494400-1617580799@livingsnoqualmie.com
SUMMARY:DIY Backyard Egg Hunts- Snoqualmie
DESCRIPTION:The annual egg hunt has been canceled\, HOP-fully the hunt for fun has not! We will provide pre-stuffed eggs for your DIY backyard egg hunts *while supplies last.\n\nPlease maintain social distancing guidelines.\n\nPick Up Eggs:\nWednesday\, March 31\, 11am-12pm\nDowntown Snoqualmie\nGazebo\, Railroad Park\, 7971 Railroad Ave\nThursday\, April 1\, 3-4pm\nSnoqualmie Ridge\nSnoqualmie Valley YMCA\, 35018 SE Ridge St
URL:https://livingsnoqualmie.com/event/diy-backyard-egg-hunts-snoqualmie/
LOCATION:Snoqualmie\, WA
END:VEVENT
BEGIN:VEVENT
DTSTART;TZID=America/Los_Angeles:20210404T080000
DTEND;TZID=America/Los_Angeles:20210404T230000
DTSTAMP:20260419T172318
CREATED:20210324T204202Z
LAST-MODIFIED:20210324T204202Z
UID:45437-1617523200-1617577200@livingsnoqualmie.com
SUMMARY:Egg-stra Special Egg Delivery
DESCRIPTION:Easter morning\, Mr. Bunny\, with the help of Snoqualmie Fire and Police\, will deliver baskets to homes in the City of Snoqualmie.\nTo enter\, email the following information to kiwanissv@gmail.com by 12 a.m. Friday\, April 2.\n\nName\, phone number\, and address (for delivery)\nPledge amount\n\nBasket recipients will be notified by phone on April 3 for deliveries on April 4th\, 8-10 a.m.\nThe Kiwanis will donate all fundraiser proceeds to Mt. Si Senior Center to support Covid19 and senior needs.
URL:https://livingsnoqualmie.com/event/egg-stra-special-egg-delivery/
LOCATION:Snoqualmie\, WA
END:VEVENT
END:VCALENDAR